BEGIN:VCALENDAR
VERSION:2.0
PRODID:-//Arkiv för Barn i Uppsala - ECPv5.1.6//NONSGML v1.0//EN
CALSCALE:GREGORIAN
METHOD:PUBLISH
X-WR-CALNAME:Arkiv för Barn i Uppsala
X-ORIGINAL-URL:https://arkiv.barniuppsala.se
X-WR-CALDESC:Händelser för Arkiv för Barn i Uppsala
BEGIN:VTIMEZONE
TZID:Europe/Stockholm
BEGIN:DAYLIGHT
TZOFFSETFROM:+0100
TZOFFSETTO:+0200
TZNAME:CEST
DTSTART:20160327T010000
END:DAYLIGHT
BEGIN:STANDARD
TZOFFSETFROM:+0200
TZOFFSETTO:+0100
TZNAME:CET
DTSTART:20161030T010000
END:STANDARD
END:VTIMEZONE
BEGIN:VEVENT
DTSTART;TZID=Europe/Stockholm:20161029T110000
DTEND;TZID=Europe/Stockholm:20161029T170000
DTSTAMP:20260421T072352
CREATED:20161019T071518Z
LAST-MODIFIED:20200201T030144Z
UID:8773-1477738800-1477760400@arkiv.barniuppsala.se
SUMMARY:Höstlov på Biotopia: Återbruk
DESCRIPTION:Återbruk. \nÖva i vårt sorteringstest-För att spara på våra resurser sorteras och återvinns idag många material. Det är inte alltid så lätt att sortera rätt! \nUppsala Vatten kommer vara på plats (måndag-fredag) för att kunna svara på frågor: Vad händer egentligen med plastburken du lämnat tillbaka? \nProva på ”bajs-basket”. \nI biolabbet har vi kreativ verkstad där du kan skapa med återvunnet material. Här kan du göra en pennhållare av en konservburk\, en docka av en ensam strumpa eller en mössa av en gammal tröja. Det finns massor av olika sätt att använda saker igen! \nTa gärna med dig något hemifrån som du tror du kan göra om. \nPlats: Biotopia \nTid: lördag  29 oktober – söndag 6 november kl. 11.00 -17.00. \nVälkommen! \nBild: Biotopia \n\n\nPrintTipsa en vän \n\n\n\n \n\n\n\n 0SHARESDela eventet
URL:https://arkiv.barniuppsala.se/event/hostlov-pa-biotopia-aterbruk/2016-10-29/
LOCATION:Biotopia – Biologiska museet\, Vasagatan 4\, Uppsala\, 753 13\, Sverige
CATEGORIES:Höstlov
ATTACH;FMTTYPE=image/jpeg:https://arkiv.barniuppsala.se/wp-content/uploads/2016/10/skräpbild-biotopia.jpg
ORGANIZER;CN="Biotopia":MAILTO:info@biotopia.nu
END:VEVENT
END:VCALENDAR