BEGIN:VCALENDAR
VERSION:2.0
PRODID:-//Arkiv för Barn i Uppsala - ECPv5.1.6//NONSGML v1.0//EN
CALSCALE:GREGORIAN
METHOD:PUBLISH
X-WR-CALNAME:Arkiv för Barn i Uppsala
X-ORIGINAL-URL:https://arkiv.barniuppsala.se
X-WR-CALDESC:Händelser för Arkiv för Barn i Uppsala
BEGIN:VTIMEZONE
TZID:Europe/Stockholm
BEGIN:DAYLIGHT
TZOFFSETFROM:+0100
TZOFFSETTO:+0200
TZNAME:CEST
DTSTART:20160327T010000
END:DAYLIGHT
BEGIN:STANDARD
TZOFFSETFROM:+0200
TZOFFSETTO:+0100
TZNAME:CET
DTSTART:20161030T010000
END:STANDARD
END:VTIMEZONE
BEGIN:VEVENT
DTSTART;TZID=Europe/Stockholm:20161101T140000
DTEND;TZID=Europe/Stockholm:20161101T150000
DTSTAMP:20260421T022529
CREATED:20161027T083414Z
LAST-MODIFIED:20161027T083414Z
UID:8965-1478008800-1478012400@arkiv.barniuppsala.se
SUMMARY:Höstlovsbio På Fyrisbiografen
DESCRIPTION:14.00 MITT LIV SOM ZUCCHINI \nRek. från 7 år. Svenskt tal (dubbad). 66 minuter. 70 kr. \nNär man är 10 år och bor på barnhem finns det så mycket att upptäcka – som hur det är att ha kompisar\, bli kär och vem vet\, kanske till och med vara lycklig. \n14.00 SIV SOVER VILSE \nRek. från 4 år. Svenskt tal och svensk text. 79 minuter. 70 kr. \nEtt magiskt äventyr om att sova borta\, som bygger på Pija Lindenbaums populära barnbok med samma namn. \n 0SHARESDela eventet
URL:https://arkiv.barniuppsala.se/event/hostlovsbio-pa-fyrisbiografen/2016-11-01/
LOCATION:Fyrisbiografen\, S:t Olofsgatan 10\, Uppsala\, 75312\, Sverige
CATEGORIES:Bio
ATTACH;FMTTYPE=image/jpeg:https://arkiv.barniuppsala.se/wp-content/uploads/2016/10/11.jpg
GEO:59.8579889;17.6286964
X-APPLE-STRUCTURED-LOCATION;VALUE=URI;X-ADDRESS=Fyrisbiografen S:t Olofsgatan 10 Uppsala 75312 Sverige;X-APPLE-RADIUS=500;X-TITLE=S:t Olofsgatan 10:geo:17.6286964,59.8579889
END:VEVENT
END:VCALENDAR