BEGIN:VCALENDAR
VERSION:2.0
PRODID:-//Arkiv för Barn i Uppsala - ECPv5.1.6//NONSGML v1.0//EN
CALSCALE:GREGORIAN
METHOD:PUBLISH
X-WR-CALNAME:Arkiv för Barn i Uppsala
X-ORIGINAL-URL:https://arkiv.barniuppsala.se
X-WR-CALDESC:Händelser för Arkiv för Barn i Uppsala
BEGIN:VTIMEZONE
TZID:Europe/Stockholm
BEGIN:DAYLIGHT
TZOFFSETFROM:+0100
TZOFFSETTO:+0200
TZNAME:CEST
DTSTART:20180325T010000
END:DAYLIGHT
BEGIN:STANDARD
TZOFFSETFROM:+0200
TZOFFSETTO:+0100
TZNAME:CET
DTSTART:20181028T010000
END:STANDARD
END:VTIMEZONE
BEGIN:VEVENT
DTSTART;TZID=Europe/Stockholm:20181031T170000
DTEND;TZID=Europe/Stockholm:20181031T210000
DTSTAMP:20260420T064726
CREATED:20181029T090630Z
LAST-MODIFIED:20181029T090630Z
UID:25902-1541005200-1541019600@arkiv.barniuppsala.se
SUMMARY:Höstlovsfest med Junis och UNF på Drabanten
DESCRIPTION:Höstlovsfest med Junis och UNF på Drabanten\nHöstlovsfest – På höstlovet är det fest i UNF:s lokaler på Drabanten! Kom och träffa nya kompisar\, var med i roliga tävlingar och spela spel. Det bjuds på mat och snacks under kvällen. Under kvällen kommer du få veta mer om UNF och Junis verksamhet. \nUNF (Ungdomens Nykterhetsförbund) är en organisation för ungdomar som vill fixa roliga fritidsaktiviteter tillsammans och samtidigt skapa en bättre värld fri från alkohol och andra droger. \nJunis (IOGT-NTOs Juniorförbund) är förbundet där du som är över 15 år kan bli ledare för barnverksamhet som teater\, dans och filmklubb. \nDatum: 31 oktober 2018\nTid: 17:00 – 21:00\nPlats: UNF:s lokaler på Drabanten\, Bangårdsgatan 13\, Uppsala\nPris: Kostnadsfritt \nOm du har frågor kan du kontakta Malin (Junis) malin.allerth@junis.org eller Elin (UNF) elin.franzen@unf.se \n  \n\nBesök gärna länkarna nedan (externa länkar öppnas i nytt fönster/flik). \nHöstlovsfest | Junis | UNF | Fler aktiviteter på Halloween | Fler aktiviteter på Höstlovet 2018 \nFoto: rawpixel via Unsplash \n0SHARESDela eventet
URL:https://arkiv.barniuppsala.se/event/hostlovsfest-junis-unf-ht18/
LOCATION:UNF (Ungdomens Nykterhetsförbund)\, Sverige
CATEGORIES:Barn,Halloween,Höstlov,Ungdom
ATTACH;FMTTYPE=image/jpeg:https://arkiv.barniuppsala.se/wp-content/uploads/2018/10/rawpixel-800841-unsplash-e1540803838621.jpg
ORGANIZER;CN="UNF%20%28Ungdomens%20Nykterhetsf%C3%B6rbund%29":MAILTO:info@unf.se
END:VEVENT
END:VCALENDAR