BEGIN:VCALENDAR
VERSION:2.0
PRODID:-//Arkiv för Barn i Uppsala - ECPv5.1.6//NONSGML v1.0//EN
CALSCALE:GREGORIAN
METHOD:PUBLISH
X-WR-CALNAME:Arkiv för Barn i Uppsala
X-ORIGINAL-URL:https://arkiv.barniuppsala.se
X-WR-CALDESC:Händelser för Arkiv för Barn i Uppsala
BEGIN:VTIMEZONE
TZID:Europe/Stockholm
BEGIN:DAYLIGHT
TZOFFSETFROM:+0100
TZOFFSETTO:+0200
TZNAME:CEST
DTSTART:20180325T010000
END:DAYLIGHT
BEGIN:STANDARD
TZOFFSETFROM:+0200
TZOFFSETTO:+0100
TZNAME:CET
DTSTART:20181028T010000
END:STANDARD
END:VTIMEZONE
BEGIN:VEVENT
DTSTART;TZID=Europe/Stockholm:20181003T110000
DTEND;TZID=Europe/Stockholm:20181003T190000
DTSTAMP:20260420T154756
CREATED:20181001T160100Z
LAST-MODIFIED:20181001T160100Z
UID:23748-1538564400-1538593200@arkiv.barniuppsala.se
SUMMARY:International Street Market Uppsala 2018
DESCRIPTION:International Street Market Uppsala 2018\nInternational Street Market firar 10 år och turnerar runt hela Sverige och besöker inte mindre än 28 städer! För första gången kommer de till Uppsala och smäller upp matstånd\, delikatesstånd och hantverksbodar som har sitt ursprung från över 15 olika länder. \nUnder fyra heldagar\, 3-6 oktober\, får du möjligheten att ta del av matkulturen och hantverk från länder du kanske tänkt på eller skulle vilja uppleva\, men även länder som glatt kommer överraska dig. \nMissa inte denna festival fullspäckat med mat\, hantverk och dylikt. \nDatum: 3-6 oktober 2018\nTid: 10.00-18.00\nPlats: Vaksala Torg\nPris: Gratis\, men kostnad för ev. inköp tillkommer givetvis \n  \n\nBesök gärna länkarna nedan (öppnas i nytt fönster/flik).\nGeraud Markets Sweden AB | International Street Market på Facebook \nFoto: Maria Eklind via Flickr (CC-BY-SA) \n0SHARESDela eventet
URL:https://arkiv.barniuppsala.se/event/international-street-market-uppsala-2018/2018-10-03/
LOCATION:Vaksala torg\, Uppsala\, Sverige
CATEGORIES:Marknad & Loppis,Utomhusaktivitet
ATTACH;FMTTYPE=image/jpeg:https://arkiv.barniuppsala.se/wp-content/uploads/2018/09/28291537351_68e303925a_k-e1537961349723.jpg
ORGANIZER;CN="Uppsala%20City":MAILTO:info@uppsalacity.se
GEO:59.8585638;17.6389267
END:VEVENT
END:VCALENDAR