BEGIN:VCALENDAR
VERSION:2.0
PRODID:-//Arkiv för Barn i Uppsala - ECPv5.1.6//NONSGML v1.0//EN
CALSCALE:GREGORIAN
METHOD:PUBLISH
X-WR-CALNAME:Arkiv för Barn i Uppsala
X-ORIGINAL-URL:https://arkiv.barniuppsala.se
X-WR-CALDESC:Händelser för Arkiv för Barn i Uppsala
BEGIN:VTIMEZONE
TZID:Europe/Stockholm
BEGIN:DAYLIGHT
TZOFFSETFROM:+0100
TZOFFSETTO:+0200
TZNAME:CEST
DTSTART:20200329T010000
END:DAYLIGHT
BEGIN:STANDARD
TZOFFSETFROM:+0200
TZOFFSETTO:+0100
TZNAME:CET
DTSTART:20201025T010000
END:STANDARD
END:VTIMEZONE
BEGIN:VEVENT
DTSTART;TZID=Europe/Stockholm:20200105T190000
DTEND;TZID=Europe/Stockholm:20200105T210000
DTSTAMP:20260420T221047
CREATED:20191212T153652Z
LAST-MODIFIED:20191220T102747Z
UID:53935-1578250800-1578258000@arkiv.barniuppsala.se
SUMMARY:Jag kommer hem igen till jul | Blå Wingen - Knivsta
DESCRIPTION:Jag kommer hem igen till jul | Blå Wingen Bio\nBesök Blå Wingen bio i Knivsta och se filmen “Jag kommer hem igen till jul” som hade biopremiär den 8 november. \nI rollerna: Peter Jöback\, Johannes Bah Kuhnke\, Suzanne Reuter\, Jennie Silfverhjelm\, Loa Falkman\, Anja Lundqvist\, Rennie Mirro \nDatum: Söndagen den 5 januari 2020\nTid: 19:00 – 21:00\nPlats: Annan\nÅlder: 7 år+\nPris: 100 kronor\nBiljett: Skicka iväg ett mejl: wingenbio@telia.com eller tel: 070-620 57 69\nBioansvarig: Nina Pihl \n \n\n “Jag kommer hem igen till jul”\nVärldsstjärnan Simon kommer hem till Sverige för att fira jul. I det lilla samhället han växte upp arrangerar hans bror Anders den årliga julkonserten och Simon har övertalats att vara med. Anders\, som alltid levt i skuggan av sin bror\, är inte helt nöjd med detta. Simon däremot tar lätt på det hela\, tills gamla minnen väcks till liv och han konfronteras med begravda familjehemligheter. \n\nBesök gärna länkarna nedan (externa länkar öppnas i ett nytt fönster/flik).\nBio på julen | Kommande event på jullovet \nFoto Josef Persson \n0SHARESDela eventet
URL:https://arkiv.barniuppsala.se/event/jag-kommer-hem-igen-till-jul-bla-wingen-bio/
LOCATION:Blå Wingen Bio\, Vackerberga 35\, Uppsala\, 741 95\, Sverige
CATEGORIES:Ålderskategori,Anmälan / Kostnad,Barn,Bio,Familj,Förköp / Bokning,Geografisk kategori,Högtid,Jul,Jullov,Knivsta Kommun,Skollov,Teater och Bio,Ungdom
ATTACH;FMTTYPE=image/jpeg:https://arkiv.barniuppsala.se/wp-content/uploads/2019/11/jagkommerhemigentilljul-728x1030-e1573050347694.jpg
ORGANIZER;CN="Bl%C3%A5%20Wingen%20Bio":MAILTO:wingenbio@telia.com
END:VEVENT
END:VCALENDAR