BEGIN:VCALENDAR
VERSION:2.0
PRODID:-//Arkiv för Barn i Uppsala - ECPv5.1.6//NONSGML v1.0//EN
CALSCALE:GREGORIAN
METHOD:PUBLISH
X-WR-CALNAME:Arkiv för Barn i Uppsala
X-ORIGINAL-URL:https://arkiv.barniuppsala.se
X-WR-CALDESC:Händelser för Arkiv för Barn i Uppsala
BEGIN:VTIMEZONE
TZID:Europe/Stockholm
BEGIN:DAYLIGHT
TZOFFSETFROM:+0100
TZOFFSETTO:+0200
TZNAME:CEST
DTSTART:20200329T010000
END:DAYLIGHT
BEGIN:STANDARD
TZOFFSETFROM:+0200
TZOFFSETTO:+0100
TZNAME:CET
DTSTART:20201025T010000
END:STANDARD
END:VTIMEZONE
BEGIN:VEVENT
DTSTART;TZID=Europe/Stockholm:20201010T140000
DTEND;TZID=Europe/Stockholm:20201010T160000
DTSTAMP:20260421T120505
CREATED:20200906T144437Z
LAST-MODIFIED:20200906T144437Z
UID:68157-1602338400-1602345600@arkiv.barniuppsala.se
SUMMARY:JOMPA - HipHopkonsert  | Heby Folkets Hus ( 3 år +)
DESCRIPTION:JOMPA – HipHopkonsert | Heby Folkets Hus ( 3 år +)\nJOMPA skapar pedagogisk\, mångbottnad och framförallt underhållande hiphop.\nHan turnerar Sverige runt med en fartfylld hiphopkonsert innehållandes musiksagor om bland annat vänskap\, trafikregler och att våga ta sin egen väg.  \nPubliken får själva testa sina rimkunskaper och delta aktivt under konserten. Stämningen är på topp!   \nEfter fyra populära barnalbum\, en barnbok\, mängder av musikvideos\, ljudboken ”Lär dig rappa” och samarbeten med bland annat Babblarna & Nassim Al Fakir så är JOMPA mer i farten än någonsin.    \n  \nDatum: Lördagen den 10 oktober 2020\nTid: 14:00 – 16:00\nPlats: Heby Folkets Hus\nÅlder: 3 – 8 år+\nSpråk: Svenska\nPris: 80 Kr\nBiljett: Heby Folkets Hus (extern länk öppnas i nytt fönster/flik) \nENDAST BETALNING MED KONTANTER ELLER SWISH \n  \n\nBesök gärna följande länkar nedan (extern länk öppnas i nytt fönster/flik) \nKommande program på teater/bio | Heby Folkets Hus \nBild: Från arrangören\nFoto: Daniel Gyllander \n0SHARESDela eventet
URL:https://arkiv.barniuppsala.se/event/jompa-hiphopkonsert-heby-folkets-hus-3-ar/
LOCATION:Heby Folkets Hus & Park\, Centralgatan 1\, Heby\, 744 32\, Sverige
CATEGORIES:Ålderskategori,Allsång,Anmälan / Kostnad,Barn,Barnteater,Biljett på plats,Dans,Familj,Förköp / Bokning,Geografisk kategori,Heby Kommun,Konsert,Sång och Musik,Teater
ATTACH;FMTTYPE=image/jpeg:https://arkiv.barniuppsala.se/wp-content/uploads/2020/09/Jompa_Affisch_A3-pdf-e1599401391732.jpg
ORGANIZER;CN="Heby%20Folkets%20Hus%20%26%20Park":MAILTO:hebyfh@telia.com
END:VEVENT
END:VCALENDAR