BEGIN:VCALENDAR
VERSION:2.0
PRODID:-//Arkiv för Barn i Uppsala - ECPv5.1.6//NONSGML v1.0//EN
CALSCALE:GREGORIAN
METHOD:PUBLISH
X-WR-CALNAME:Arkiv för Barn i Uppsala
X-ORIGINAL-URL:https://arkiv.barniuppsala.se
X-WR-CALDESC:Händelser för Arkiv för Barn i Uppsala
BEGIN:VTIMEZONE
TZID:Europe/Stockholm
BEGIN:DAYLIGHT
TZOFFSETFROM:+0100
TZOFFSETTO:+0200
TZNAME:CEST
DTSTART:20160327T010000
END:DAYLIGHT
BEGIN:STANDARD
TZOFFSETFROM:+0200
TZOFFSETTO:+0100
TZNAME:CET
DTSTART:20161030T010000
END:STANDARD
END:VTIMEZONE
BEGIN:VEVENT
DTSTART;TZID=Europe/Stockholm:20160106T140000
DTEND;TZID=Europe/Stockholm:20160106T163000
DTSTAMP:20260422T222944
CREATED:20160104T085532Z
LAST-MODIFIED:20160104T095957Z
UID:5655-1452088800-1452097800@arkiv.barniuppsala.se
SUMMARY:Julfest för alla barn!
DESCRIPTION:Traditionell julfest för alla barn på trettondagen\, 6 januari kl 14-16.30 i Folkets hus\, Tärnsjö. \nDans kring granen med riktig tomtemusik och lekar. Fiskdamm\, gratis godispåsar till alla barn\, lotterier. \nJulfesten är gratis och det krävs ingen föranmälan. \nBild: pixabay. \n  \n0SHARESDela eventet
URL:https://arkiv.barniuppsala.se/event/julfest-for-alla-barn/
LOCATION:Sverige
CATEGORIES:Jul
ATTACH;FMTTYPE=image/png:https://arkiv.barniuppsala.se/wp-content/uploads/2016/01/julgran.png
END:VEVENT
END:VCALENDAR