BEGIN:VCALENDAR
VERSION:2.0
PRODID:-//Arkiv för Barn i Uppsala - ECPv5.1.6//NONSGML v1.0//EN
CALSCALE:GREGORIAN
METHOD:PUBLISH
X-WR-CALNAME:Arkiv för Barn i Uppsala
X-ORIGINAL-URL:https://arkiv.barniuppsala.se
X-WR-CALDESC:Händelser för Arkiv för Barn i Uppsala
BEGIN:VTIMEZONE
TZID:Europe/Stockholm
BEGIN:DAYLIGHT
TZOFFSETFROM:+0100
TZOFFSETTO:+0200
TZNAME:CEST
DTSTART:20160327T010000
END:DAYLIGHT
BEGIN:STANDARD
TZOFFSETFROM:+0200
TZOFFSETTO:+0100
TZNAME:CET
DTSTART:20161030T010000
END:STANDARD
END:VTIMEZONE
BEGIN:VEVENT
DTSTART;TZID=Europe/Stockholm:20161210T150000
DTEND;TZID=Europe/Stockholm:20161210T170000
DTSTAMP:20260420T014941
CREATED:20161206T083633Z
LAST-MODIFIED:20161206T083633Z
UID:9536-1481382000-1481389200@arkiv.barniuppsala.se
SUMMARY:Julfest
DESCRIPTION:Välkomna på Bolivia Chasqui julfest!\nDet blir något gott att äta\, lekar och julmys. \nTomten kommer kl 17.00. (Ta med en julklapp till ditt barn\, att lägga i tomtens säck\, för max 50 kr.) \n0SHARESDela eventet
URL:https://arkiv.barniuppsala.se/event/julfest/
LOCATION:Sernandersväg 1\, Uppsala\, Sverige
CATEGORIES:Jul,Ungdom
ATTACH;FMTTYPE=image/jpeg:https://arkiv.barniuppsala.se/wp-content/uploads/2016/12/JULFEST.jpg
GEO:59.8498782;17.5907701
X-APPLE-STRUCTURED-LOCATION;VALUE=URI;X-ADDRESS=Sernandersväg 1 Uppsala Sverige;X-APPLE-RADIUS=500;X-TITLE=Sernandersväg 1:geo:17.5907701,59.8498782
END:VEVENT
END:VCALENDAR