BEGIN:VCALENDAR
VERSION:2.0
PRODID:-//Arkiv för Barn i Uppsala - ECPv5.1.6//NONSGML v1.0//EN
CALSCALE:GREGORIAN
METHOD:PUBLISH
X-WR-CALNAME:Arkiv för Barn i Uppsala
X-ORIGINAL-URL:https://arkiv.barniuppsala.se
X-WR-CALDESC:Händelser för Arkiv för Barn i Uppsala
BEGIN:VTIMEZONE
TZID:Europe/Stockholm
BEGIN:DAYLIGHT
TZOFFSETFROM:+0100
TZOFFSETTO:+0200
TZNAME:CEST
DTSTART:20150329T010000
END:DAYLIGHT
BEGIN:STANDARD
TZOFFSETFROM:+0200
TZOFFSETTO:+0100
TZNAME:CET
DTSTART:20151025T010000
END:STANDARD
END:VTIMEZONE
BEGIN:VEVENT
DTSTART;TZID=Europe/Stockholm:20151128T113000
DTEND;TZID=Europe/Stockholm:20151129T173000
DTSTAMP:20260421T173823
CREATED:20151123T095429Z
LAST-MODIFIED:20151123T100859Z
UID:4463-1448710200-1448818200@arkiv.barniuppsala.se
SUMMARY:JULMARKNAD PÅ SLOTTET
DESCRIPTION:Kom och julstöka med oss!\nJulmarknad med konsthantverk på tre våningar.\nHandla dina unika julklappar hos oss\, fika i museets nya café och var med i vår bildjakt med fina priser för både barn och vuxna. \nBildkälla:se.dreamstime.com \n0SHARESDela eventet
URL:https://arkiv.barniuppsala.se/event/julmarknad-pa-slottet/
LOCATION:Uppsala slott\, Slottet\, Uppsala\, 752 37\, Sverige
CATEGORIES:Jul
ATTACH;FMTTYPE=image/jpeg:https://arkiv.barniuppsala.se/wp-content/uploads/2015/11/uppsala-slott-32310244-1-e1448272991150.jpg
GEO:59.8536282;17.6355653
X-APPLE-STRUCTURED-LOCATION;VALUE=URI;X-ADDRESS=Uppsala slott Slottet Uppsala 752 37 Sverige;X-APPLE-RADIUS=500;X-TITLE=Slottet:geo:17.6355653,59.8536282
END:VEVENT
END:VCALENDAR