BEGIN:VCALENDAR
VERSION:2.0
PRODID:-//Arkiv för Barn i Uppsala - ECPv5.1.6//NONSGML v1.0//EN
CALSCALE:GREGORIAN
METHOD:PUBLISH
X-WR-CALNAME:Arkiv för Barn i Uppsala
X-ORIGINAL-URL:https://arkiv.barniuppsala.se
X-WR-CALDESC:Händelser för Arkiv för Barn i Uppsala
BEGIN:VTIMEZONE
TZID:Europe/Stockholm
BEGIN:DAYLIGHT
TZOFFSETFROM:+0100
TZOFFSETTO:+0200
TZNAME:CEST
DTSTART:20180325T010000
END:DAYLIGHT
BEGIN:STANDARD
TZOFFSETFROM:+0200
TZOFFSETTO:+0100
TZNAME:CET
DTSTART:20181028T010000
END:STANDARD
END:VTIMEZONE
BEGIN:VEVENT
DTSTART;TZID=Europe/Stockholm:20181202T120000
DTEND;TZID=Europe/Stockholm:20181202T170000
DTSTAMP:20260421T172954
CREATED:20181122T045216Z
LAST-MODIFIED:20181122T050020Z
UID:26893-1543752000-1543770000@arkiv.barniuppsala.se
SUMMARY:Julmarknad på Upplandsmuseet | Julmarknad 2018
DESCRIPTION:Julmarknad på Upplandsmuseet | Julmarknad 2018\nVälkommen på Julmarknad\, föredrag och skaparverkstad!\nJulmarknad på Upplandsmuseet – Mysig julmarknad med försäljning av hantverksprodukter från Uppland. Här hittar du unika handgjorda plagg\, lammskinn\, vävt\, broderat och andra ullprodukter. Dessutom träsnideri\, smide\, och många andra perfekta julklappar som är både vackra och miljövänliga. Det kommer att finnas marknadsstånd både ute på gården och inne i museet. \nUnder dagen kommer Upplandsmuseet också att ha drop-in för barnfamiljer i skaparverkstaden på plan 2. \nDet blir även program med med föredrag om olika hantverkstekniker (se nedan). \nMarknaden och programaktiviteterna är gratis och vill välkomna alla besökare till en\nmarknad som är bra för både människor och miljön.\nDatum: Söndagen den 2 december\nTid: 12:00-17:00\nPlats: Upplandsmuseet. St Eriks torg 10\, Uppsala\nPris: Fri entré \nArrangör: Upplandsmuseet och föreningen Ull i Uppland \n  \n\nFöredrag i hörsalen\n13.00–14.00  – Temari-bollar \nEva-Lotta Staffas visar hur man gör Temari-bollar som är en slags japanska bollar som lindas av garn och tråd. \n14.15–15.15 – Nålbindning \nMärta Brodén visar nålbindningens hemligheter. \n15.30–16.30 – Ull – på längden\, på tvären och varför inte nära kroppen \nGunilla Jönsson\, ordförande i Ull i Uppland\, pratar ull. \n  \n\nBesök gärna länkarna nedan (externa länkar öppnas i ett nytt fönster/flik). \nUpplandsmuseet | Ull i Uppland | Programblad för dagen | Kommande julmarknader 2018 \nBild: pixabay.com \n0SHARESDela eventet
URL:https://arkiv.barniuppsala.se/event/julmarknad-pa-upplandsmuseet/
LOCATION:Upplandsmuseet (Kansli)\, Drottninggatan 7\, Uppsala\, 75310\, Sverige
CATEGORIES:Barn,Familj,Jul,Marknad & Loppis,Ungdom
ATTACH;FMTTYPE=image/jpeg:https://arkiv.barniuppsala.se/wp-content/uploads/2018/11/water-563497_640.jpg
ORGANIZER;CN="Upplandsmuseet":MAILTO:museibutiken@upplandsmuseet.se
GEO:59.8589504;17.6349009
X-APPLE-STRUCTURED-LOCATION;VALUE=URI;X-ADDRESS=Upplandsmuseet (Kansli) Drottninggatan 7 Uppsala 75310 Sverige;X-APPLE-RADIUS=500;X-TITLE=Drottninggatan 7:geo:17.6349009,59.8589504
END:VEVENT
END:VCALENDAR