BEGIN:VCALENDAR
VERSION:2.0
PRODID:-//Arkiv för Barn i Uppsala - ECPv5.1.6//NONSGML v1.0//EN
CALSCALE:GREGORIAN
METHOD:PUBLISH
X-WR-CALNAME:Arkiv för Barn i Uppsala
X-ORIGINAL-URL:https://arkiv.barniuppsala.se
X-WR-CALDESC:Händelser för Arkiv för Barn i Uppsala
BEGIN:VTIMEZONE
TZID:Europe/Stockholm
BEGIN:DAYLIGHT
TZOFFSETFROM:+0100
TZOFFSETTO:+0200
TZNAME:CEST
DTSTART:20190331T010000
END:DAYLIGHT
BEGIN:STANDARD
TZOFFSETFROM:+0200
TZOFFSETTO:+0100
TZNAME:CET
DTSTART:20191027T010000
END:STANDARD
END:VTIMEZONE
BEGIN:VEVENT
DTSTART;TZID=Europe/Stockholm:20191224T060000
DTEND;TZID=Europe/Stockholm:20191224T130000
DTSTAMP:20260420T222642
CREATED:20191212T100135Z
LAST-MODIFIED:20191212T100135Z
UID:53529-1577167200-1577192400@arkiv.barniuppsala.se
SUMMARY:Julöppet på Julafton 2019 | Fyrishov
DESCRIPTION:Julöppet på Julafton 2019 | Fyrishov\nFyrishov välkomnar dig till en stämningsfull förmiddag på julafton med bad\, vedeldad bastu och tomtegröt. Den vedeldade bastun står utomhus och är öppen för alla badande. Restaurangen serverar tomtegröt tillsammans med skinkmacka på vörtbröd\, glögg\, pepparkakor och kaffe. \nGOD JUL! \nDatum: Tisdagen den 24 december 2019\nTid: 06.00-13.00\, (vedeldade bastun öppnar klockan 07.00)\nPlats: Fyrishov\nÅlder: För alla!\nPris: \nBarn: 0-3 år\, Fri entré\nBarn: 4-15 år\, 95 kronor\nVuxen: 16 år och uppåt\, 115 kronor \nArrangör: Fyrishov \n\nOm Fyrishov\nFyrishov är Sveriges mest besökta arena och ett av Sveriges största besöksmål. Verksamheten består av bad\, idrott och event. Arenan omfattar både idrottshallar för idrott\, mässor\, möten\, event och specialutrustade idrottshallar och en badanläggning med äventyrsbad\, simhall med 50-meters bassäng och 10 m hopptorn\, undervisnings- och träningsbassäng samt relaxavdelning. \n\nBesök gärna länkarna nedan (externa länkar öppnas i ett nytt fönster/flik).\nJulöppet på Fyrishov  | Fyrishov | Kommande event på julen \nFoto: Fyrishov \n0SHARESDela eventet
URL:https://arkiv.barniuppsala.se/event/juloppet-pa-julafton-2019-fyrishov/
LOCATION:Fyrishov\, Idrottsgatan 2\, Uppsala\, 753 33\, Sverige
CATEGORIES:Ålderskategori,Anmälan / Kostnad,Barn,Familj,Förköp / Bokning,Geografisk kategori,Högtid,Jul,Jullov,Skollov,Svartbäcken,Ungdom,? Uppsala
ATTACH;FMTTYPE=image/jpeg:https://arkiv.barniuppsala.se/wp-content/uploads/2019/12/700x384_Julafton.jpg
GEO:59.8705229;17.6233124
X-APPLE-STRUCTURED-LOCATION;VALUE=URI;X-ADDRESS=Fyrishov Idrottsgatan 2 Uppsala 753 33 Sverige;X-APPLE-RADIUS=500;X-TITLE=Idrottsgatan 2:geo:17.6233124,59.8705229
END:VEVENT
END:VCALENDAR