BEGIN:VCALENDAR
VERSION:2.0
PRODID:-//Arkiv för Barn i Uppsala - ECPv5.1.6//NONSGML v1.0//EN
CALSCALE:GREGORIAN
METHOD:PUBLISH
X-WR-CALNAME:Arkiv för Barn i Uppsala
X-ORIGINAL-URL:https://arkiv.barniuppsala.se
X-WR-CALDESC:Händelser för Arkiv för Barn i Uppsala
BEGIN:VTIMEZONE
TZID:Europe/Stockholm
BEGIN:DAYLIGHT
TZOFFSETFROM:+0100
TZOFFSETTO:+0200
TZNAME:CEST
DTSTART:20160327T010000
END:DAYLIGHT
BEGIN:STANDARD
TZOFFSETFROM:+0200
TZOFFSETTO:+0100
TZNAME:CET
DTSTART:20161030T010000
END:STANDARD
END:VTIMEZONE
BEGIN:VEVENT
DTSTART;TZID=Europe/Stockholm:20161211T140000
DTEND;TZID=Europe/Stockholm:20161211T160000
DTSTAMP:20260419T210950
CREATED:20161107T113226Z
LAST-MODIFIED:20161202T081422Z
UID:9200-1481464800-1481472000@arkiv.barniuppsala.se
SUMMARY:Julshow/ Julavslutning
DESCRIPTION:Varje år hålls en Julshow/Julavslutning med åkare i alla åldrar från Uppsala skridskoklubb och är en höjdpunkt där åkarna har chans att visa upp sina (nya) kunskaper. \nAlla barn och vuxna är välkomna att titta. \nNär: Söndag 11 december klockan 14.00- ca 16.00 \nVar: Gränby A-hall\, Uppsala \n\n 0SHARESDela eventet
URL:https://arkiv.barniuppsala.se/event/julshow-julavslutning/
LOCATION:Gränby ishall\, Råbyvägen 71\, Uppsala\, 754 30\, Sverige
CATEGORIES:Ungdom,Uppvisning
ATTACH;FMTTYPE=image/jpeg:https://arkiv.barniuppsala.se/wp-content/uploads/2016/11/julshow.jpg
ORGANIZER;CN="Uppsala%20skridskoklubb":MAILTO:styrelsen.uppsalask@gmail.com
GEO:59.8802357;17.6565891
X-APPLE-STRUCTURED-LOCATION;VALUE=URI;X-ADDRESS=Gränby ishall Råbyvägen 71 Uppsala 754 30 Sverige;X-APPLE-RADIUS=500;X-TITLE=Råbyvägen 71:geo:17.6565891,59.8802357
END:VEVENT
END:VCALENDAR