BEGIN:VCALENDAR
VERSION:2.0
PRODID:-//Arkiv för Barn i Uppsala - ECPv5.1.6//NONSGML v1.0//EN
CALSCALE:GREGORIAN
METHOD:PUBLISH
X-WR-CALNAME:Arkiv för Barn i Uppsala
X-ORIGINAL-URL:https://arkiv.barniuppsala.se
X-WR-CALDESC:Händelser för Arkiv för Barn i Uppsala
BEGIN:VTIMEZONE
TZID:Europe/Stockholm
BEGIN:DAYLIGHT
TZOFFSETFROM:+0100
TZOFFSETTO:+0200
TZNAME:CEST
DTSTART:20150329T010000
END:DAYLIGHT
BEGIN:STANDARD
TZOFFSETFROM:+0200
TZOFFSETTO:+0100
TZNAME:CET
DTSTART:20151025T010000
END:STANDARD
END:VTIMEZONE
BEGIN:VEVENT
DTSTART;TZID=Europe/Stockholm:20151101T140000
DTEND;TZID=Europe/Stockholm:20151029T140000
DTSTAMP:20260421T085418
CREATED:20151029T181021Z
LAST-MODIFIED:20151029T181021Z
UID:4157-1446386400-1446127200@arkiv.barniuppsala.se
SUMMARY:Knattebio: Ur en kos dagbok
DESCRIPTION:Knattebio på Fyrisbiografen lördag & söndag kl 14. \nDet visas tre knattefilm-klassiker: Ur en kos dagbok\, Kattresan och Sagan om pannkakan. \nBiljettpris barnfilm 50 – 70 kr\, boka på 018-15 03 46. \n0SHARESDela eventet
URL:https://arkiv.barniuppsala.se/event/knattebio-ur-en-kos-dagbok-2/
LOCATION:Fyrisbiografen\, S:t Olofsgatan 10\, Uppsala\, 75312\, Sverige
CATEGORIES:Bio,Höstlov
ATTACH;FMTTYPE=image/jpeg:https://arkiv.barniuppsala.se/wp-content/uploads/2015/10/ur-en-kos-dagbok-e1446137636928.jpg
GEO:59.8579889;17.6286964
X-APPLE-STRUCTURED-LOCATION;VALUE=URI;X-ADDRESS=Fyrisbiografen S:t Olofsgatan 10 Uppsala 75312 Sverige;X-APPLE-RADIUS=500;X-TITLE=S:t Olofsgatan 10:geo:17.6286964,59.8579889
END:VEVENT
END:VCALENDAR