BEGIN:VCALENDAR
VERSION:2.0
PRODID:-//Arkiv för Barn i Uppsala - ECPv5.1.6//NONSGML v1.0//EN
CALSCALE:GREGORIAN
METHOD:PUBLISH
X-WR-CALNAME:Arkiv för Barn i Uppsala
X-ORIGINAL-URL:https://arkiv.barniuppsala.se
X-WR-CALDESC:Händelser för Arkiv för Barn i Uppsala
BEGIN:VTIMEZONE
TZID:Europe/Stockholm
BEGIN:DAYLIGHT
TZOFFSETFROM:+0100
TZOFFSETTO:+0200
TZNAME:CEST
DTSTART:20170326T010000
END:DAYLIGHT
BEGIN:STANDARD
TZOFFSETFROM:+0200
TZOFFSETTO:+0100
TZNAME:CET
DTSTART:20171029T010000
END:STANDARD
END:VTIMEZONE
BEGIN:VEVENT
DTSTART;TZID=Europe/Stockholm:20170325T130000
DTEND;TZID=Europe/Stockholm:20170325T153000
DTSTAMP:20260420T110018
CREATED:20170316T102539Z
LAST-MODIFIED:20170316T112055Z
UID:11792-1490446800-1490455800@arkiv.barniuppsala.se
SUMMARY:Kom på visning och skapa i Drop in-verkstan
DESCRIPTION:Kom på visning och skapa i Drop in-verkstan! \nFamiljelördag på museet i Slottet blir det lördag 25 mars.\nVisningen startar kl 13 och skapar konst själva gör ni i Drop in-verkstan efteråt\, kl 13.30-15.30. \nAktiviteten passar familjer med barn från ca 5 år och är GRATIS! \nDen här gången kan ni kolla in det här på Konstmuseet:\nFörvandlingen – Återvinningsskulptur i gummi och tyg.\nDen sydafrikanske konstnären Nicholas Hlobo gör konst av det som finns i hans närhet.\nMaterial som gummi och tyg blåser han liv i. Fram träder vattengudar\, märkliga människor\, kartbilder och djur.\nVar med och skapa med inspiration av modelejon och myter från xhosafolket! \nLäs mer om konstnären här . \nFoto hämtat från uppsalakonstmuseum.se. \n  \n0SHARESDela eventet
URL:https://arkiv.barniuppsala.se/event/kom-pa-visning-skapa-drop-in-verkstan/
LOCATION:Uppsala konstmuseum\, Drottnings Christinas väg 1E\, Uppsala\, 752 37\, Sverige
CATEGORIES:Skapande och Kreativitet,Utställning
ATTACH;FMTTYPE=image/jpeg:https://arkiv.barniuppsala.se/wp-content/uploads/2017/03/verkstan_uppsalakonstmuseum.se_.jpg
ORGANIZER;CN="Uppsala%20konstmuseum":MAILTO:konstmuseum@uppsala.se
GEO:59.8532935;17.6351313
X-APPLE-STRUCTURED-LOCATION;VALUE=URI;X-ADDRESS=Uppsala konstmuseum Drottnings Christinas väg 1E Uppsala 752 37 Sverige;X-APPLE-RADIUS=500;X-TITLE=Drottnings Christinas väg 1E:geo:17.6351313,59.8532935
END:VEVENT
END:VCALENDAR