BEGIN:VCALENDAR
VERSION:2.0
PRODID:-//Arkiv för Barn i Uppsala - ECPv5.1.6//NONSGML v1.0//EN
CALSCALE:GREGORIAN
METHOD:PUBLISH
X-WR-CALNAME:Arkiv för Barn i Uppsala
X-ORIGINAL-URL:https://arkiv.barniuppsala.se
X-WR-CALDESC:Händelser för Arkiv för Barn i Uppsala
BEGIN:VTIMEZONE
TZID:Europe/Stockholm
BEGIN:DAYLIGHT
TZOFFSETFROM:+0100
TZOFFSETTO:+0200
TZNAME:CEST
DTSTART:20190331T010000
END:DAYLIGHT
BEGIN:STANDARD
TZOFFSETFROM:+0200
TZOFFSETTO:+0100
TZNAME:CET
DTSTART:20191027T010000
END:STANDARD
END:VTIMEZONE
BEGIN:VEVENT
DTSTART;TZID=Europe/Stockholm:20190929T190000
DTEND;TZID=Europe/Stockholm:20190929T190000
DTSTAMP:20260421T121304
CREATED:20190909T131426Z
LAST-MODIFIED:20190909T131426Z
UID:49228-1569783600-1569783600@arkiv.barniuppsala.se
SUMMARY:Konsert med Livgardets Dragonmusikkår på Uppsala Slott
DESCRIPTION:Konsert med Livgardets Dragonmusikkår på Uppsala Slott\nBeridna Högvakten besöker Uppsala. Dagen inleds med parad genom stadens gator och avslutas med att Livgardets Dragonmusikkår ger en konsert i Rikssalen på Uppsala Slott under ledning av Mats Janhagen. \nDatum: Söndagen den 29 september 2019\nTid: 18.00\nPlats: Rikssalen på Uppsala Slott\nPris: 100 kr/person\nBiljett:  \nBoka biljett på Beridna Högvaktens hemsida\nOBS! Kontrollera noga att du anger en korrekt / fungerande E-postadress!\nBiljetterna skickas till den e-postadress som du uppgivit. \n  \n\nOm Livgardets Dragonmusikkår\nLivgardets Dragonmusikkår bildades 1990 under namnet Arméns Dragontrumpetare. Anledningen var att sex värnpliktiga trumpetare deltog som förstärkning i den beridna musikkåren. Försöket slog väl ut. Fram till 2001 leddes den musikaliska utvecklingen till häst av Stig Rydqvist. Stig Rydqvist efterträddes av stabstrumpetare Olle Hermansen. \nNy chefsdirigent och konstnärlig ledare är David Björkman. \nKårchef är major Helen Falk. \n\nBesök gärna länkarna nedan (externa länkar öppnas i ett nytt fönster/flik).\nBeridna Högvakten » Konsert på Uppsala Slott | Beridna Högvakten » Parad | Kommande event för hela familjen \nFoto: Beridna Högvakten \n0SHARESDela eventet
URL:https://arkiv.barniuppsala.se/event/konsert-livgardets-dragonmusikkar-ht19/
LOCATION:Uppsala slott\, Slottet\, Uppsala\, 752 37\, Sverige
CATEGORIES:Barn,Familj,Konsert,Sång och Musik,Ungdom
ATTACH;FMTTYPE=image/jpeg:https://arkiv.barniuppsala.se/wp-content/uploads/2019/09/img-4.jpg
ORGANIZER;CN="Beridna%20H%C3%B6gvakten":MAILTO:kansli@beridnahogvakten.se
GEO:59.8536282;17.6355653
X-APPLE-STRUCTURED-LOCATION;VALUE=URI;X-ADDRESS=Uppsala slott Slottet Uppsala 752 37 Sverige;X-APPLE-RADIUS=500;X-TITLE=Slottet:geo:17.6355653,59.8536282
END:VEVENT
END:VCALENDAR