BEGIN:VCALENDAR
VERSION:2.0
PRODID:-//Arkiv för Barn i Uppsala - ECPv5.1.6//NONSGML v1.0//EN
CALSCALE:GREGORIAN
METHOD:PUBLISH
X-WR-CALNAME:Arkiv för Barn i Uppsala
X-ORIGINAL-URL:https://arkiv.barniuppsala.se
X-WR-CALDESC:Händelser för Arkiv för Barn i Uppsala
BEGIN:VTIMEZONE
TZID:Europe/Stockholm
BEGIN:DAYLIGHT
TZOFFSETFROM:+0100
TZOFFSETTO:+0200
TZNAME:CEST
DTSTART:20160327T010000
END:DAYLIGHT
BEGIN:STANDARD
TZOFFSETFROM:+0200
TZOFFSETTO:+0100
TZNAME:CET
DTSTART:20161030T010000
END:STANDARD
END:VTIMEZONE
BEGIN:VEVENT
DTSTART;TZID=Europe/Stockholm:20161211T150000
DTEND;TZID=Europe/Stockholm:20161211T170000
DTSTAMP:20260419T193846
CREATED:20161130T130236Z
LAST-MODIFIED:20161130T130236Z
UID:9451-1481468400-1481475600@arkiv.barniuppsala.se
SUMMARY:Konsert med före detta elever
DESCRIPTION:  \nSöndag 11 december i Nannaskolans aula \n\nUppsala kulturskola firar sina tidigare 60 musikskoleår med en konsert med före detta elever. \nMedverkande:\nJohanna Andrén\, gitarr och sång\nEmma Granstam\, trumpet\nMiranda Nordqvist\, violin\nErik Tengholm\, trumpet och Johan Tengholm\, kontrabas\nOlof Wallner\, piano \nFritt inträde. \n\n 0SHARESDela eventet
URL:https://arkiv.barniuppsala.se/event/konsert-med-fore-detta-elever/
LOCATION:Nannaskolan\, Kungsgatan 24\, Uppsala\, 753 21
CATEGORIES:Jul,Sång och Musik,Ungdom
ATTACH;FMTTYPE=image/jpeg:https://arkiv.barniuppsala.se/wp-content/uploads/2016/11/guitar.jpg
GEO:59.8616782;17.6384462
X-APPLE-STRUCTURED-LOCATION;VALUE=URI;X-ADDRESS=Nannaskolan Kungsgatan 24 Uppsala 753 21;X-APPLE-RADIUS=500;X-TITLE=Kungsgatan 24:geo:17.6384462,59.8616782
END:VEVENT
END:VCALENDAR