BEGIN:VCALENDAR
VERSION:2.0
PRODID:-//Arkiv för Barn i Uppsala - ECPv5.1.6//NONSGML v1.0//EN
CALSCALE:GREGORIAN
METHOD:PUBLISH
X-WR-CALNAME:Arkiv för Barn i Uppsala
X-ORIGINAL-URL:https://arkiv.barniuppsala.se
X-WR-CALDESC:Händelser för Arkiv för Barn i Uppsala
BEGIN:VTIMEZONE
TZID:Europe/Stockholm
BEGIN:DAYLIGHT
TZOFFSETFROM:+0100
TZOFFSETTO:+0200
TZNAME:CEST
DTSTART:20160327T010000
END:DAYLIGHT
BEGIN:STANDARD
TZOFFSETFROM:+0200
TZOFFSETTO:+0100
TZNAME:CET
DTSTART:20161030T010000
END:STANDARD
END:VTIMEZONE
BEGIN:VEVENT
DTSTART;TZID=Europe/Stockholm:20161120T150000
DTEND;TZID=Europe/Stockholm:20161120T170000
DTSTAMP:20260420T170344
CREATED:20161115T131542Z
LAST-MODIFIED:20161115T131542Z
UID:9306-1479654000-1479661200@arkiv.barniuppsala.se
SUMMARY:Konsertkarusellen med Lena Willemark\, Väsen\, Trio X&NBB
DESCRIPTION:Knivsta kommunhus\, Tilassalen\, Centralvägen 18 Knivsta. \nAlla tillsammans eller i olika konstellationer. Här möts fantastiska musiker och musik från olika traditioner sammanflätas. En oförglömlig konsertkväll utlovas! Lena Willemark har kommit att bli en centralgestalt inom den svenska folkmusiken. Väsen\, folkmusikgrupp som ständigt blir inbjudna till internationella musikfestivaler runtom i världen. Norrbotten Big Band turnerar flitigt\, har också varit grammisnominerade.\nTrio X\, improvisationstrion\, som rör sig lätt mellan olika musikgenrer.\nAlla ungdom och vuxna ä välkomna\nFör biljetter och information ta kontakt med arrangören; \nKnivsta Musiksällskap\, Eva Block 070-283 27 89 \nMusik i Uppland\, Eva Sverredal\, 018-17 19 20 \n0SHARESDela eventet
URL:https://arkiv.barniuppsala.se/event/konsertkarusellen-med-lena-willemark-vasen-trio-xnbb/
LOCATION:Knivsta bibliotek\, Centralvägen 18\, Knivsta\, 741 40\, Sverige
CATEGORIES:Teater och Bio
ATTACH;FMTTYPE=image/jpeg:https://arkiv.barniuppsala.se/wp-content/uploads/2016/11/knivsta-kommun.jpg
GEO:59.7276856;17.7857663
X-APPLE-STRUCTURED-LOCATION;VALUE=URI;X-ADDRESS=Knivsta bibliotek Centralvägen 18 Knivsta 741 40 Sverige;X-APPLE-RADIUS=500;X-TITLE=Centralvägen 18:geo:17.7857663,59.7276856
END:VEVENT
END:VCALENDAR