BEGIN:VCALENDAR
VERSION:2.0
PRODID:-//Arkiv för Barn i Uppsala - ECPv5.1.6//NONSGML v1.0//EN
CALSCALE:GREGORIAN
METHOD:PUBLISH
X-WR-CALNAME:Arkiv för Barn i Uppsala
X-ORIGINAL-URL:https://arkiv.barniuppsala.se
X-WR-CALDESC:Händelser för Arkiv för Barn i Uppsala
BEGIN:VTIMEZONE
TZID:Europe/Stockholm
BEGIN:DAYLIGHT
TZOFFSETFROM:+0100
TZOFFSETTO:+0200
TZNAME:CEST
DTSTART:20190331T010000
END:DAYLIGHT
BEGIN:STANDARD
TZOFFSETFROM:+0200
TZOFFSETTO:+0100
TZNAME:CET
DTSTART:20191027T010000
END:STANDARD
END:VTIMEZONE
BEGIN:VEVENT
DTSTART;TZID=Europe/Stockholm:20190610T183000
DTEND;TZID=Europe/Stockholm:20190610T190000
DTSTAMP:20260420T203459
CREATED:20190523T091542Z
LAST-MODIFIED:20190523T102423Z
UID:38617-1560191400-1560193200@arkiv.barniuppsala.se
SUMMARY:KRABBA - Sommarsimskola med Linnéas simskola (3-5år)
DESCRIPTION:KRABBA Sommarsimskola med Linnéas simskola (3-5år)\nSommarsimskola – Under v 24 – 28 erbjuder Linnéas simskola intensivkurser om 7 eller 5 tillfällen. Perfekt för att få en riktig boost! Simskola varannan eller varje dag ger barnet snabbt livräddande färdigheter. \nFörkunskaper: Inga. Barnet är mellan 3 och 5år.\nMål: Målen för kursen är att barnet ska kunna ryggflyta i tre sekunder med hjälp\, att barnet ska kunna hoppa från kanten och vända under vattnet med hjälp samt att barnet ska kunna simma två meter under vattnet. \n\nVecka: 24 och 25 \nDatum: \nMåndag 10 juni 2019\nTisdag    11 juni 2019\nOnsdag  12 juni 2019\nTorsdag 13 juni 2019\nMåndag 17 juni 2019\nTisdag    18 juni 2019\nOnsdag  19 juni 2019 \nTid: 17.30\nLängd: 30 minuter\nPlats:  Linnéabassängen\, Märstagatan 4                    \nFoto: Från arrangör \nInstruktör: Sara\nÅlder: 3 – 5år\nPris: 1 760 kronor \nVecka: 26 \nDatum: \nMåndag 24 juni 2019\nTisdag    25 juni 2019\nOnsdag  26 juni 2019\nTorsdag 27 juni 2019\nFredag   28 juni 2019 \nTid: 10.20\nLängd: 40 minuter\nPlats:  Linnéabassängen\, Märstagatan 4\nInstruktör: Hanna\nÅlder: 3 – 5år\nPris: 1 740 kronor \nAnmälan: Linnéas simskola (extern länk öppnas i nytt fönster/flik)\nParkering: Gratis parkering märkta med Linnéas Simskola finns utanför entrén och även längs gatorna. På kvällar och helger är det även ok att stå på Upplands Boservice platser.\n \n  \n\nOm bassängen\nLinnéabassängen är en varm (34-35 grader) bassäng som är 130 cm djup. Den har två trappor ned i vardera del.\nBassängen är i sin helhet 6 x 12 meter. Bassängen delas i två delar i de flesta grupperna.\nDen stora delen vid avdelning är 6\,5 x 6 meter. Den lilla delen är 5\,5 x 6 meter.\nReningen sker med hjälp av klor och UV-ljus. Linnéas simskola är känd för sitt fina vatten! \nTeori\nTeorin hålls alltid på Linnéas kontor på Märstagatan 4 i utbildningslokalen intill Linnéabassängen.\nObservera att det är på en annan tid än er simtid!\nTeoritillfället tar ca en timme och där får ni Babysimboken (av Ludmilla Rosengren) och all information ni behöver innan ni ska ned i vattnet första tillfället. \n\nBesök gärna följande länkar nedan (extern länk öppnas i nytt fönster/flik)\nSimskolor sommaren 2019 | Linnéas simskola \nBild: Från arrangören \n0SHARESDela eventet
URL:https://arkiv.barniuppsala.se/event/krabba-sommar-simskola-linneas-simskola/2019-06-10/
LOCATION:Linnea Simskola\, Märstagatan 4\, Uppsala\, Sverige
CATEGORIES:Barn,Familj,Kunskap och Lärande,Simskola och simläger
ATTACH;FMTTYPE=image/png:https://arkiv.barniuppsala.se/wp-content/uploads/2019/05/krabba_0-e1558076644277.png
GEO:59.8546534;17.6605101
X-APPLE-STRUCTURED-LOCATION;VALUE=URI;X-ADDRESS=Linnea Simskola Märstagatan 4 Uppsala Sverige;X-APPLE-RADIUS=500;X-TITLE=Märstagatan 4:geo:17.6605101,59.8546534
END:VEVENT
END:VCALENDAR