BEGIN:VCALENDAR
VERSION:2.0
PRODID:-//Arkiv för Barn i Uppsala - ECPv5.1.6//NONSGML v1.0//EN
CALSCALE:GREGORIAN
METHOD:PUBLISH
X-WR-CALNAME:Arkiv för Barn i Uppsala
X-ORIGINAL-URL:https://arkiv.barniuppsala.se
X-WR-CALDESC:Händelser för Arkiv för Barn i Uppsala
BEGIN:VTIMEZONE
TZID:Europe/Stockholm
BEGIN:DAYLIGHT
TZOFFSETFROM:+0100
TZOFFSETTO:+0200
TZNAME:CEST
DTSTART:20160327T010000
END:DAYLIGHT
BEGIN:STANDARD
TZOFFSETFROM:+0200
TZOFFSETTO:+0100
TZNAME:CET
DTSTART:20161030T010000
END:STANDARD
END:VTIMEZONE
BEGIN:VEVENT
DTSTART;TZID=Europe/Stockholm:20161126T190000
DTEND;TZID=Europe/Stockholm:20161126T200000
DTSTAMP:20260421T053546
CREATED:20161114T082912Z
LAST-MODIFIED:20200209T171644Z
UID:9280-1480186800-1480190400@arkiv.barniuppsala.se
SUMMARY:Kröning av Uppsalas lucia
DESCRIPTION:Luciatåg av projektkören Lucia utan gränser. \nSångare ur domkyrkans goss- och flickkör och nyanlända ungdomar. \nDirigent: Margareta Raab. \nMusikalisk ledare för Uppsala lucia: Anna-Karin ”Ako” Oldeberg. \nPlats: Domkyrkan. \nTid: lördag 26 november kl. 19.00. \nFri entré\, kollekt. \nVälkommen! \n0SHARESDela eventet
URL:https://arkiv.barniuppsala.se/event/kroning-av-uppsala-lucia-2/
LOCATION:Uppsala Domkyrka\, Domkyrkoplan 5\, Uppsala\, Sverige
CATEGORIES:Jul,Lucia,Sång och Musik
ORGANIZER;CN="Svenska%20Kyrkan%2C%20Uppsala%20domkyrkof%C3%B6rsamling":MAILTO:e-post uppsala.domkyrko@ svenskakyrkan.se
GEO:59.8584471;17.6332992
X-APPLE-STRUCTURED-LOCATION;VALUE=URI;X-ADDRESS=Uppsala Domkyrka Domkyrkoplan 5 Uppsala Sverige;X-APPLE-RADIUS=500;X-TITLE=Domkyrkoplan 5:geo:17.6332992,59.8584471
END:VEVENT
END:VCALENDAR