BEGIN:VCALENDAR
VERSION:2.0
PRODID:-//Arkiv för Barn i Uppsala - ECPv5.1.6//NONSGML v1.0//EN
CALSCALE:GREGORIAN
METHOD:PUBLISH
X-WR-CALNAME:Arkiv för Barn i Uppsala
X-ORIGINAL-URL:https://arkiv.barniuppsala.se
X-WR-CALDESC:Händelser för Arkiv för Barn i Uppsala
BEGIN:VTIMEZONE
TZID:Europe/Stockholm
BEGIN:DAYLIGHT
TZOFFSETFROM:+0100
TZOFFSETTO:+0200
TZNAME:CEST
DTSTART:20160327T010000
END:DAYLIGHT
BEGIN:STANDARD
TZOFFSETFROM:+0200
TZOFFSETTO:+0100
TZNAME:CET
DTSTART:20161030T010000
END:STANDARD
END:VTIMEZONE
BEGIN:VEVENT
DTSTART;TZID=Europe/Stockholm:20161029T130000
DTEND;TZID=Europe/Stockholm:20161029T160000
DTSTAMP:20260421T110243
CREATED:20161024T072809Z
LAST-MODIFIED:20161024T072809Z
UID:8847-1477746000-1477756800@arkiv.barniuppsala.se
SUMMARY:Kulturlov: Familjevisning i ficklampans sken
DESCRIPTION:Upptäck draken i taket\, titta in i salen som aldrig blev klar och spana in spännande vapen och rustningar! \nVisning: Vuxna 60 kr. \nUngdomskostnad: Gratis under 19 år. \n0SHARESDela eventet
URL:https://arkiv.barniuppsala.se/event/kulturlov-familjevisning-ficklampans-sken/2016-10-29/
LOCATION:Skoklosters slott\, Skoklostervägen 84\, Skokloster\, 746 96
CATEGORIES:Utställning
ATTACH;FMTTYPE=image/jpeg:https://arkiv.barniuppsala.se/wp-content/uploads/2016/10/sm_dig4390_0.jpg
GEO:59.7041615;17.6164641
X-APPLE-STRUCTURED-LOCATION;VALUE=URI;X-ADDRESS=Skoklosters slott Skoklostervägen 84 Skokloster 746 96;X-APPLE-RADIUS=500;X-TITLE=Skoklostervägen 84:geo:17.6164641,59.7041615
END:VEVENT
END:VCALENDAR