BEGIN:VCALENDAR
VERSION:2.0
PRODID:-//Arkiv för Barn i Uppsala - ECPv5.1.6//NONSGML v1.0//EN
CALSCALE:GREGORIAN
METHOD:PUBLISH
X-WR-CALNAME:Arkiv för Barn i Uppsala
X-ORIGINAL-URL:https://arkiv.barniuppsala.se
X-WR-CALDESC:Händelser för Arkiv för Barn i Uppsala
BEGIN:VTIMEZONE
TZID:Europe/Stockholm
BEGIN:DAYLIGHT
TZOFFSETFROM:+0100
TZOFFSETTO:+0200
TZNAME:CEST
DTSTART:20160327T010000
END:DAYLIGHT
BEGIN:STANDARD
TZOFFSETFROM:+0200
TZOFFSETTO:+0100
TZNAME:CET
DTSTART:20161030T010000
END:STANDARD
END:VTIMEZONE
BEGIN:VEVENT
DTSTART;TZID=Europe/Stockholm:20161101T130000
DTEND;TZID=Europe/Stockholm:20161101T153000
DTSTAMP:20260421T022432
CREATED:20161017T093348Z
LAST-MODIFIED:20161018T092152Z
UID:8719-1478005200-1478014200@arkiv.barniuppsala.se
SUMMARY:Kulturlov; Huset\, ett skuggspel
DESCRIPTION:Alla barn är välkomna att skapa i museets verkstad under loven. Inspiration till spännande teman och konstnärliga tekniker hittas i museets utställningar. \n\nVerksamheten leds av erfaren konstpedagog och är kostnadsfri. \nKULTURLOV 1–4/11\n13.00-15.30\nHuset – ett skuggspel\nInformation: Upptäck konsten på museet och skapa själv. Uppsala Konstmuséum börjar med familjevisning 13.00\, där\nbarn med vuxen är välkommen. Därefter skapande i museets verkstad och drop-in\nTider: 13.30–15.30. Verksamheten leds av erfaren konstpedagog och är kostnadsfri. Från 5 år. \nUppsala Konstmuséum lyfter på fasaden till ett hus och ser allt som händer samtidigt. Här bor människor i lägenheter i flera våningsplan. Inspiration hämtas från utställningen Rummets Rymder 1974. Till vår skuggteater skapas rekvisita och manus och föreställningen filmas. \n\n 0SHARESDela eventet
URL:https://arkiv.barniuppsala.se/event/kulturlov-huset-ett-skuggspel/2016-11-01/
LOCATION:Uppsala konstmuseum\, Drottnings Christinas väg 1E\, Uppsala\, 752 37\, Sverige
ATTACH;FMTTYPE=image/jpeg:https://arkiv.barniuppsala.se/wp-content/uploads/2016/10/Uppsala-Konst.jpg
ORGANIZER;CN="Uppsala%20konstmuseum":MAILTO:konstmuseum@uppsala.se
GEO:59.8532935;17.6351313
X-APPLE-STRUCTURED-LOCATION;VALUE=URI;X-ADDRESS=Uppsala konstmuseum Drottnings Christinas väg 1E Uppsala 752 37 Sverige;X-APPLE-RADIUS=500;X-TITLE=Drottnings Christinas väg 1E:geo:17.6351313,59.8532935
END:VEVENT
END:VCALENDAR