BEGIN:VCALENDAR
VERSION:2.0
PRODID:-//Arkiv för Barn i Uppsala - ECPv5.1.6//NONSGML v1.0//EN
CALSCALE:GREGORIAN
METHOD:PUBLISH
X-WR-CALNAME:Arkiv för Barn i Uppsala
X-ORIGINAL-URL:https://arkiv.barniuppsala.se
X-WR-CALDESC:Händelser för Arkiv för Barn i Uppsala
BEGIN:VTIMEZONE
TZID:Europe/Stockholm
BEGIN:DAYLIGHT
TZOFFSETFROM:+0100
TZOFFSETTO:+0200
TZNAME:CEST
DTSTART:20160327T010000
END:DAYLIGHT
BEGIN:STANDARD
TZOFFSETFROM:+0200
TZOFFSETTO:+0100
TZNAME:CET
DTSTART:20161030T010000
END:STANDARD
END:VTIMEZONE
BEGIN:VEVENT
DTSTART;TZID=Europe/Stockholm:20161102T130000
DTEND;TZID=Europe/Stockholm:20161102T150000
DTSTAMP:20260421T022259
CREATED:20161014T093842Z
LAST-MODIFIED:20161018T091206Z
UID:8678-1478091600-1478098800@arkiv.barniuppsala.se
SUMMARY:Kulturlov: När skräp blir Magi
DESCRIPTION:Barnbibliotekarierna Lotta och Anna-Klara berättar inledningen på en saga. Men hur ska sagan sluta? Med hjälp av skräp pysslar Stadsbiblioteket tillsammans fram ett slut. En kreativ eftermiddag\, där skräp blir magi. \nOBS! Ta gärna med skräp till programmet. \nÅldersgrupp: För barn 7-10 år. \nBegränsat antal platser. Föranmälan: 018-7271710 eller stadsbibli.barn@uppsala.se \nPlats: Skattkammaren \nVälkomna! \n0SHARESDela eventet
URL:https://arkiv.barniuppsala.se/event/kulturlov-nar-skrap-blir-magi/
LOCATION:Stadsbiblioteket\, Svartbäcksgatan 17\, Uppsala\, 753 75 \, Sverige
CATEGORIES:Bibliotek
ATTACH;FMTTYPE=image/jpeg:https://arkiv.barniuppsala.se/wp-content/uploads/2016/10/Stadsbib-e1557925940309.jpg
ORGANIZER;CN="Uppsala%20stadsbibliotek":MAILTO: stadsbibli.inf@uppsala.se
GEO:59.8606206;17.6353278
X-APPLE-STRUCTURED-LOCATION;VALUE=URI;X-ADDRESS=Stadsbiblioteket Svartbäcksgatan 17 Uppsala 753 75  Sverige;X-APPLE-RADIUS=500;X-TITLE=Svartbäcksgatan 17:geo:17.6353278,59.8606206
END:VEVENT
END:VCALENDAR