BEGIN:VCALENDAR
VERSION:2.0
PRODID:-//Arkiv för Barn i Uppsala - ECPv5.1.6//NONSGML v1.0//EN
CALSCALE:GREGORIAN
METHOD:PUBLISH
X-WR-CALNAME:Arkiv för Barn i Uppsala
X-ORIGINAL-URL:https://arkiv.barniuppsala.se
X-WR-CALDESC:Händelser för Arkiv för Barn i Uppsala
BEGIN:VTIMEZONE
TZID:Europe/Stockholm
BEGIN:DAYLIGHT
TZOFFSETFROM:+0100
TZOFFSETTO:+0200
TZNAME:CEST
DTSTART:20160327T010000
END:DAYLIGHT
BEGIN:STANDARD
TZOFFSETFROM:+0200
TZOFFSETTO:+0100
TZNAME:CET
DTSTART:20161030T010000
END:STANDARD
END:VTIMEZONE
BEGIN:VEVENT
DTSTART;TZID=Europe/Stockholm:20161102T120000
DTEND;TZID=Europe/Stockholm:20161102T150000
DTSTAMP:20260421T035907
CREATED:20161014T082522Z
LAST-MODIFIED:20161031T125910Z
UID:8667-1478088000-1478098800@arkiv.barniuppsala.se
SUMMARY:Kulturlov: Rollspel för tonåringar
DESCRIPTION:Kom och spela ett humoristiskt rollspel! \nVarför sitter det en talande räv vid dörren? Hur fick ni tag på ett svärd av trä som skär genom sten? Och varför tittar alla så konstigt på er? Om ni bara kunde minnas var ni är och vad ni gjorde igår… \nSpelledare: Sanna Barsk \nBegränsat antal platser. Föranmälan till Knivsta bibliotek\, 018-34 72 30 eller knivstabibliotek@knivsta.se \nFoto: Dice\, James Bowe \n0SHARESDela eventet
URL:https://arkiv.barniuppsala.se/event/kulturlov-rollspel-tonaringar/
LOCATION:Knivsta Bibliotek\, Centralvägen 18\, 741 40\, Knivsta\, Knivsta\, 741 40\, Sverige
CATEGORIES:Bibliotek,Spel & tävling
ATTACH;FMTTYPE=image/jpeg:https://arkiv.barniuppsala.se/wp-content/uploads/2016/10/Rollspel-e1495441842511.jpg
ORGANIZER;CN="Knivsta%20Bibliotek":MAILTO:kristina.vikstrom@knivsta.se
GEO:59.7276919;17.7857802
X-APPLE-STRUCTURED-LOCATION;VALUE=URI;X-ADDRESS=Knivsta Bibliotek Centralvägen 18 741 40 Knivsta Knivsta 741 40 Sverige;X-APPLE-RADIUS=500;X-TITLE=Centralvägen 18\, 741 40:geo:17.7857802,59.7276919
END:VEVENT
END:VCALENDAR