BEGIN:VCALENDAR
VERSION:2.0
PRODID:-//Arkiv för Barn i Uppsala - ECPv5.1.6//NONSGML v1.0//EN
CALSCALE:GREGORIAN
METHOD:PUBLISH
X-WR-CALNAME:Arkiv för Barn i Uppsala
X-ORIGINAL-URL:https://arkiv.barniuppsala.se
X-WR-CALDESC:Händelser för Arkiv för Barn i Uppsala
BEGIN:VTIMEZONE
TZID:Europe/Stockholm
BEGIN:DAYLIGHT
TZOFFSETFROM:+0100
TZOFFSETTO:+0200
TZNAME:CEST
DTSTART:20160327T010000
END:DAYLIGHT
BEGIN:STANDARD
TZOFFSETFROM:+0200
TZOFFSETTO:+0100
TZNAME:CET
DTSTART:20161030T010000
END:STANDARD
END:VTIMEZONE
BEGIN:VEVENT
DTSTART;TZID=Europe/Stockholm:20161104T160000
DTEND;TZID=Europe/Stockholm:20161104T190000
DTSTAMP:20260421T121436
CREATED:20161102T092831Z
LAST-MODIFIED:20161102T092831Z
UID:9025-1478275200-1478286000@arkiv.barniuppsala.se
SUMMARY:Kulturlov: Spökpromenad på stall Uggelbo
DESCRIPTION:En spökig kväll på Stall Uggelbo! En spökpromenad för mindre barn och en för de lite större barnen\, spökgodis i slutet. Ta med ficklampa om du önskar. Olika aktiviteter som ex. ponnyridning och ansiktsmålning. Hälsa gärna på djuren också. Fika och korv finns till försäljning. \nKostnad: 70 kr/barn. \nObs. Anmälan sker via pm till ansvariga Agneta Hammar alt. Jenny Ekesand\, klicka på länken till evenemanget på Facebook: Spökpromenad på stall Uggelbo. Anmälan till fredag sker senast torsdag 3/11 och senast fredag 4/11 för lördagen. \nNär: Fredag 4 november och lördag 5 november kl. 16.00-19.00 \nVar: Stall Uggelbo\, Skokloster \n  \nBild hämtad från pixabay.com \n0SHARESDela eventet
URL:https://arkiv.barniuppsala.se/event/kulturlov-spokpromenad-pa-stall-uggelbo/2016-11-04/
LOCATION:Stall Uggelbo\, Uggelbovägen 5\, Skokloster\, 746 96 \, Sverige
CATEGORIES:Djur,Halloween,Höstlov,Utomhusaktivitet
ATTACH;FMTTYPE=image/jpeg:https://arkiv.barniuppsala.se/wp-content/uploads/2016/10/Halloween.jpg
GEO:59.700082;17.5911422
X-APPLE-STRUCTURED-LOCATION;VALUE=URI;X-ADDRESS=Stall Uggelbo Uggelbovägen 5 Skokloster 746 96  Sverige;X-APPLE-RADIUS=500;X-TITLE=Uggelbovägen 5:geo:17.5911422,59.700082
END:VEVENT
END:VCALENDAR