BEGIN:VCALENDAR
VERSION:2.0
PRODID:-//Arkiv för Barn i Uppsala - ECPv5.1.6//NONSGML v1.0//EN
CALSCALE:GREGORIAN
METHOD:PUBLISH
X-WR-CALNAME:Arkiv för Barn i Uppsala
X-ORIGINAL-URL:https://arkiv.barniuppsala.se
X-WR-CALDESC:Händelser för Arkiv för Barn i Uppsala
BEGIN:VTIMEZONE
TZID:Europe/Stockholm
BEGIN:DAYLIGHT
TZOFFSETFROM:+0100
TZOFFSETTO:+0200
TZNAME:CEST
DTSTART:20160327T010000
END:DAYLIGHT
BEGIN:STANDARD
TZOFFSETFROM:+0200
TZOFFSETTO:+0100
TZNAME:CET
DTSTART:20161030T010000
END:STANDARD
END:VTIMEZONE
BEGIN:VEVENT
DTSTART;TZID=Europe/Stockholm:20161104T120000
DTEND;TZID=Europe/Stockholm:20161104T150000
DTSTAMP:20260421T035841
CREATED:20161014T094844Z
LAST-MODIFIED:20161014T094844Z
UID:8683-1478260800-1478271600@arkiv.barniuppsala.se
SUMMARY:Kulturlov: Teckna realistiskt (tonåringar)
DESCRIPTION:Med penna och papper utforskar vi föremålen omkring oss.\nVi lär oss att se former\, proportioner\, ljus och skuggor.\nHur realistisk kan en teckning bli med enbart pennan som redskap?\nTips: Har du en sak du gärna vill teckna? Ta med den!\nLeder gör Oskar Jonsson\, illustratör och formgivare. \nBegränsat antal platser. Föranmälan till Knivsta bibliotek\, 018-34 72 30 eller knivstabibliotek@knivsta.se \n0SHARESDela eventet
URL:https://arkiv.barniuppsala.se/event/kulturlov-teckna-realistiskt-tonaringar/
LOCATION:Knivsta Bibliotek\, Centralvägen 18\, 741 40\, Knivsta\, Knivsta\, 741 40\, Sverige
CATEGORIES:Bibliotek
ATTACH;FMTTYPE=image/jpeg:https://arkiv.barniuppsala.se/wp-content/uploads/2016/10/knivsta-bib.jpg
ORGANIZER;CN="Knivsta%20Bibliotek":MAILTO:kristina.vikstrom@knivsta.se
GEO:59.7276919;17.7857802
X-APPLE-STRUCTURED-LOCATION;VALUE=URI;X-ADDRESS=Knivsta Bibliotek Centralvägen 18 741 40 Knivsta Knivsta 741 40 Sverige;X-APPLE-RADIUS=500;X-TITLE=Centralvägen 18\, 741 40:geo:17.7857802,59.7276919
END:VEVENT
END:VCALENDAR