BEGIN:VCALENDAR
VERSION:2.0
PRODID:-//Arkiv för Barn i Uppsala - ECPv5.1.6//NONSGML v1.0//EN
CALSCALE:GREGORIAN
METHOD:PUBLISH
X-WR-CALNAME:Arkiv för Barn i Uppsala
X-ORIGINAL-URL:https://arkiv.barniuppsala.se
X-WR-CALDESC:Händelser för Arkiv för Barn i Uppsala
BEGIN:VTIMEZONE
TZID:Europe/Stockholm
BEGIN:DAYLIGHT
TZOFFSETFROM:+0100
TZOFFSETTO:+0200
TZNAME:CEST
DTSTART:20160327T010000
END:DAYLIGHT
BEGIN:STANDARD
TZOFFSETFROM:+0200
TZOFFSETTO:+0100
TZNAME:CET
DTSTART:20161030T010000
END:STANDARD
END:VTIMEZONE
BEGIN:VEVENT
DTSTART;TZID=Europe/Stockholm:20160910T190000
DTEND;TZID=Europe/Stockholm:20160910T193000
DTSTAMP:20260419T210956
CREATED:20160907T082210Z
LAST-MODIFIED:20160907T082210Z
UID:7946-1473534000-1473535800@arkiv.barniuppsala.se
SUMMARY:Kulturnatten; Barnallsång i Missionskyrkan
DESCRIPTION:Välkommen till Missionskyrkan på St Olofsgatan för barnallsång under ledning av Anna Marklund. \nNär: Lördagen 10 september kl. 18.00-18.30 \nVar: Missionskyrkan \n  \nPå Uppsala Kommuns sida om kulturnatten kan ni se vad som händer i övrigt runt hela Uppsala på Kulturnatten. \n0SHARESDela eventet
URL:https://arkiv.barniuppsala.se/event/kulturnatten-barnallsang-missionskyrkan/
LOCATION:Missionskyrkan\, S:t Olofsgatan 40\, Uppsala\, 753 32
CATEGORIES:Kulturnatten
ATTACH;FMTTYPE=image/jpeg:https://arkiv.barniuppsala.se/wp-content/uploads/2016/09/Barnsång.jpg
GEO:59.8615973;17.6367168
X-APPLE-STRUCTURED-LOCATION;VALUE=URI;X-ADDRESS=Missionskyrkan S:t Olofsgatan 40 Uppsala 753 32;X-APPLE-RADIUS=500;X-TITLE=S:t Olofsgatan 40:geo:17.6367168,59.8615973
END:VEVENT
END:VCALENDAR