BEGIN:VCALENDAR
VERSION:2.0
PRODID:-//Arkiv för Barn i Uppsala - ECPv5.1.6//NONSGML v1.0//EN
CALSCALE:GREGORIAN
METHOD:PUBLISH
X-WR-CALNAME:Arkiv för Barn i Uppsala
X-ORIGINAL-URL:https://arkiv.barniuppsala.se
X-WR-CALDESC:Händelser för Arkiv för Barn i Uppsala
BEGIN:VTIMEZONE
TZID:Europe/Stockholm
BEGIN:DAYLIGHT
TZOFFSETFROM:+0100
TZOFFSETTO:+0200
TZNAME:CEST
DTSTART:20190331T010000
END:DAYLIGHT
BEGIN:STANDARD
TZOFFSETFROM:+0200
TZOFFSETTO:+0100
TZNAME:CET
DTSTART:20191027T010000
END:STANDARD
END:VTIMEZONE
BEGIN:VEVENT
DTSTART;TZID=Europe/Stockholm:20190804T193000
DTEND;TZID=Europe/Stockholm:20190804T193000
DTSTAMP:20260422T032336
CREATED:20190716T105738Z
LAST-MODIFIED:20200209T144233Z
UID:44891-1564947000-1564947000@arkiv.barniuppsala.se
SUMMARY:Larkin Poe på Parksnäckan | Stadsträdgården
DESCRIPTION:Larkin Poe på Parksnäckan | Stadsträdgården\nParksnäckan presenterar  Larkin Poe live på Parksnäckan. Bandet som kallats ”Allman Brothers småsystrar” har turnerat med bland andra Elvis Costello\, Bright Eyes och Conor Oberst. Systrarna Rebecca och Megan Lovell är två unika singersongwriters som spelar flera instrument och som gör sin egen version av roots rock’n’roll; själfull och färgad av deras arv från södra USA. Baserade i Nashville men ursprungligen från Atlanta\, är de dessutom ättlingar av poeten och geniet Edgar Allan Poe. \nDatum: Söndagen den 4 augusti 2019\nTid: 19:30\nPlats: Parksnäckan\nÅlder: Från 3 år och uppåt. Barn i målsmans sällskap. \nPris: \nFörköp Vuxen: 320 kr + service\nFörköp Barn: 160 kr + service \nInsläpp Förköp: kl 18.15\nInsläpp Övriga: kl 18.45 \n\nOm Larkin Poe\nLarkin Poe är USA:s just nu mest hajpade roots-rockduo bestående av systrarna Rebecca och Megan Lovell. Deras musik\, till stor del influerad av amerikansk roots och soul med slide-gitarrer\, har fångat kritiker och publik över hela världen. De var förband till Elvis Costello på UKK 2014 och aldrig har det väl pratats så mycket om ett förband som då. 2018 blev deras självproducerade tredje album “Peach” nominerat till Blues Foundation Best Emerging Artist Album Award. Samma år utkom deras fjärde album\, “Venom & Faith”\, som spelades in i Nashville. Utsedda till ”Rolling Stones 10 Artists To Watch 2018” och hyllade av Forbes som ”dina nästa favorit-artister” – helt enkelt för bra för att missa. \n\nBesök gärna länkarna nedan (externa länkar öppnas i ett nytt fönster/flik).\nKonsert på Parksnäckan  | Kommande event inom sång och musik | Kommande event på sommarlovet | Kommande event på Parksnäckan \nFoto: Från Arrangören \n0SHARESDela eventet
URL:https://arkiv.barniuppsala.se/event/larkin-poe-pa-parksnackan-i-uppsala/
LOCATION:Parksnäckan\, Stadsträdgården\, Uppsala\, 75309\, Sverige
CATEGORIES:Barn,Familj,För föräldrar,Konsert,Sång och Musik,Skollov,Sommarlov,Ungdom,Utomhusaktivitet
ATTACH;FMTTYPE=image/jpeg:https://arkiv.barniuppsala.se/wp-content/uploads/2019/07/larkin-web-evenemang-bild.jpg
GEO:59.851382;17.644544
X-APPLE-STRUCTURED-LOCATION;VALUE=URI;X-ADDRESS=Parksnäckan Stadsträdgården Uppsala 75309 Sverige;X-APPLE-RADIUS=500;X-TITLE=Stadsträdgården:geo:17.644544,59.851382
END:VEVENT
END:VCALENDAR