BEGIN:VCALENDAR
VERSION:2.0
PRODID:-//Arkiv för Barn i Uppsala - ECPv5.1.6//NONSGML v1.0//EN
CALSCALE:GREGORIAN
METHOD:PUBLISH
X-WR-CALNAME:Arkiv för Barn i Uppsala
X-ORIGINAL-URL:https://arkiv.barniuppsala.se
X-WR-CALDESC:Händelser för Arkiv för Barn i Uppsala
BEGIN:VTIMEZONE
TZID:Europe/Stockholm
BEGIN:DAYLIGHT
TZOFFSETFROM:+0100
TZOFFSETTO:+0200
TZNAME:CEST
DTSTART:20180325T010000
END:DAYLIGHT
BEGIN:STANDARD
TZOFFSETFROM:+0200
TZOFFSETTO:+0100
TZNAME:CET
DTSTART:20181028T010000
END:STANDARD
END:VTIMEZONE
BEGIN:VEVENT
DTSTART;TZID=Europe/Stockholm:20180528T160000
DTEND;TZID=Europe/Stockholm:20180528T204500
DTSTAMP:20260420T111614
CREATED:20180503T083154Z
LAST-MODIFIED:20180503T083453Z
UID:18687-1527523200-1527540300@arkiv.barniuppsala.se
SUMMARY:Läxhjälp
DESCRIPTION:Läxhjälp\n\n\nHar du svenska som andraspråk? Vill du ha hjälp med läxorna eller med att förstå svenska? Kom på läxhjälp! \n\n\n\nTid och plats\nMåndagar och tisdagar 15.00–19.45 \nStadsbiblioteket\, grupprummet vid Molnet \n  \nI samarrangemang med Röda korsets ungdomsförbund. \nBild från: https://upload.wikrimedia.org \n\n 0SHARESDela eventet
URL:https://arkiv.barniuppsala.se/event/laxhjalp-3/2018-05-28/
LOCATION:Uppsala stadsbibliotek\, Svartbäcksgatan 17\, Uppsala\, 753 75\, Sverige
CATEGORIES:Barn,Bibliotek
ATTACH;FMTTYPE=image/jpeg:https://arkiv.barniuppsala.se/wp-content/uploads/2016/03/stadsbiblioteket.jpg
ORGANIZER;CN="R%C3%B6da%20korsets%20ungdomsf%C3%B6rbund":MAILTO:rkuf.uppsala(@)redcross.se
GEO:59.8606206;17.6353278
X-APPLE-STRUCTURED-LOCATION;VALUE=URI;X-ADDRESS=Uppsala stadsbibliotek Svartbäcksgatan 17 Uppsala 753 75 Sverige;X-APPLE-RADIUS=500;X-TITLE=Svartbäcksgatan 17:geo:17.6353278,59.8606206
END:VEVENT
END:VCALENDAR