BEGIN:VCALENDAR
VERSION:2.0
PRODID:-//Arkiv för Barn i Uppsala - ECPv5.1.6//NONSGML v1.0//EN
CALSCALE:GREGORIAN
METHOD:PUBLISH
X-WR-CALNAME:Arkiv för Barn i Uppsala
X-ORIGINAL-URL:https://arkiv.barniuppsala.se
X-WR-CALDESC:Händelser för Arkiv för Barn i Uppsala
BEGIN:VTIMEZONE
TZID:Europe/Stockholm
BEGIN:DAYLIGHT
TZOFFSETFROM:+0100
TZOFFSETTO:+0200
TZNAME:CEST
DTSTART:20170326T010000
END:DAYLIGHT
BEGIN:STANDARD
TZOFFSETFROM:+0200
TZOFFSETTO:+0100
TZNAME:CET
DTSTART:20171029T010000
END:STANDARD
END:VTIMEZONE
BEGIN:VEVENT
DTSTART;TZID=Europe/Stockholm:20170201T143000
DTEND;TZID=Europe/Stockholm:20170201T160000
DTSTAMP:20260420T164104
CREATED:20170125T141343Z
LAST-MODIFIED:20170215T102907Z
UID:10507-1485959400-1485964800@arkiv.barniuppsala.se
SUMMARY:Läxhjälp i Tunabergskyrkan
DESCRIPTION:Kom och få läxhjälp i Tunabergskyrkan som varje onsdag kl. 14.3o anordnar en läxklubb för barn i åk. 4 och 5. Legitimerad matte och NV-lärare finns på plats. \nDet serveras även fika. \nKontakt: Karin Walterskog\, tel 018-430 37 86 \n  \nBild från pixabay.com \n0SHARESDela eventet
URL:https://arkiv.barniuppsala.se/event/laxhjalp-i-tunabergskyrkan/2017-02-01/
LOCATION:Tunabergskyrkan\, Tunagatan 29\, Uppsala\, 753 37\, Sverige
CATEGORIES:Kunskap och Lärande,Ungdom
ATTACH;FMTTYPE=image/jpeg:https://arkiv.barniuppsala.se/wp-content/uploads/2017/01/läxor.jpg
GEO:59.8781945;17.6193982
X-APPLE-STRUCTURED-LOCATION;VALUE=URI;X-ADDRESS=Tunabergskyrkan Tunagatan 29 Uppsala 753 37 Sverige;X-APPLE-RADIUS=500;X-TITLE=Tunagatan 29:geo:17.6193982,59.8781945
END:VEVENT
END:VCALENDAR