BEGIN:VCALENDAR
VERSION:2.0
PRODID:-//Arkiv för Barn i Uppsala - ECPv5.1.6//NONSGML v1.0//EN
CALSCALE:GREGORIAN
METHOD:PUBLISH
X-WR-CALNAME:Arkiv för Barn i Uppsala
X-ORIGINAL-URL:https://arkiv.barniuppsala.se
X-WR-CALDESC:Händelser för Arkiv för Barn i Uppsala
BEGIN:VTIMEZONE
TZID:Europe/Stockholm
BEGIN:DAYLIGHT
TZOFFSETFROM:+0100
TZOFFSETTO:+0200
TZNAME:CEST
DTSTART:20190331T010000
END:DAYLIGHT
BEGIN:STANDARD
TZOFFSETFROM:+0200
TZOFFSETTO:+0100
TZNAME:CET
DTSTART:20191027T010000
END:STANDARD
END:VTIMEZONE
BEGIN:VEVENT
DTSTART;TZID=Europe/Stockholm:20190505T133000
DTEND;TZID=Europe/Stockholm:20190505T153000
DTSTAMP:20260422T123602
CREATED:20190503T062858Z
LAST-MODIFIED:20190503T062858Z
UID:37781-1557063000-1557070200@arkiv.barniuppsala.se
SUMMARY:LEGO® Filmen 2 | Barnens Biodag
DESCRIPTION:LEGO® Filmen 2 | Barnens Biodag\nSöndag den 5 maj så är det barnens biodag och på filmstaden så spelas den efterlängtade uppföljaren LEGO® Filmen 2 till halva priset.  I den här filmen så hotas de av Lego duplo inkräktare från yttre rymden som förstör allt i sin väg snabbare än invånarna hinner bygga upp det på nytt. Kampen för att besegra inkräktarna och återställa lugnet i Lego universumet tar Emmet\, Lucy\, Batman och deras vänner till nya outforskade världar. Det kommer krävas mod\, kreativitet och mästerbyggar-skills för att visa hur speciella de verkligen är. \nTid: 12:30\nDatum: 5 Maj\nPlats: Filmstaden\, Salong 2\nOrginalspråk: Engelska\nTalat språk: Svenska (dubbad)\nÅlder: 7 år\nPris: 57 kr\, begränsat antal platser \n \n\nBesök gärna länkarna nedan (externa länkar i nytt fönster/flik).\nFilmstaden i Uppsala |  Kommande event på Bio 2019 | Fler filmer på Barnens Biodag \nBild: Warner Bros \n0SHARESDela eventet
URL:https://arkiv.barniuppsala.se/event/lego-filmen-2-barnens-biodag/
LOCATION:Filmstaden Uppsala\, Västra Ågatan 16\, Uppsala\, 751 49\, Sverige
CATEGORIES:Barn,Barnens Biodag,Bio,Familj,Ungdom
ATTACH;FMTTYPE=image/jpeg:https://arkiv.barniuppsala.se/wp-content/uploads/2019/05/lego_movie2_photo18-e1556867080837.jpg
GEO:59.8570331;17.6385552
X-APPLE-STRUCTURED-LOCATION;VALUE=URI;X-ADDRESS=Filmstaden Uppsala Västra Ågatan 16 Uppsala 751 49 Sverige;X-APPLE-RADIUS=500;X-TITLE=Västra Ågatan 16:geo:17.6385552,59.8570331
END:VEVENT
END:VCALENDAR