BEGIN:VCALENDAR
VERSION:2.0
PRODID:-//Arkiv för Barn i Uppsala - ECPv5.1.6//NONSGML v1.0//EN
CALSCALE:GREGORIAN
METHOD:PUBLISH
X-WR-CALNAME:Arkiv för Barn i Uppsala
X-ORIGINAL-URL:https://arkiv.barniuppsala.se
X-WR-CALDESC:Händelser för Arkiv för Barn i Uppsala
BEGIN:VTIMEZONE
TZID:Europe/Stockholm
BEGIN:DAYLIGHT
TZOFFSETFROM:+0100
TZOFFSETTO:+0200
TZNAME:CEST
DTSTART:20180325T010000
END:DAYLIGHT
BEGIN:STANDARD
TZOFFSETFROM:+0200
TZOFFSETTO:+0100
TZNAME:CET
DTSTART:20181028T010000
END:STANDARD
END:VTIMEZONE
BEGIN:VEVENT
DTSTART;TZID=Europe/Stockholm:20180217T110000
DTEND;TZID=Europe/Stockholm:20180217T150000
DTSTAMP:20260419T214218
CREATED:20180125T121439Z
LAST-MODIFIED:20180125T121439Z
UID:17961-1518865200-1518879600@arkiv.barniuppsala.se
SUMMARY:Legolördag
DESCRIPTION:Legolördag\nSportlovsevent. Kom på legolördag på Sävjabiblioteket och bygg med en massa härliga legoklossar med andra barn. För barn från 4 år\, i vuxens sällskap. \nTid och plats\nLördag 17 februari kl 11.00 – 15.00 \nSävjabiblioteket \nBibliotek Uppsala \nBild hämtad från pixabay.com \n0SHARESDela eventet
URL:https://arkiv.barniuppsala.se/event/legolordag/
LOCATION:Sävjabiblioteket\, Västgötaresan\, Uppsala\, 757 54\, Sverige
CATEGORIES:Barn,Bibliotek,Sportlov
ATTACH;FMTTYPE=image/jpeg:https://arkiv.barniuppsala.se/wp-content/uploads/2018/01/lego-2589872_640.jpg
ORGANIZER;CN="Bibliotek%20Uppsala":MAILTO:kundtjanst@bibliotekuppsala.se
GEO:59.8085971;17.7022024
X-APPLE-STRUCTURED-LOCATION;VALUE=URI;X-ADDRESS=Sävjabiblioteket Västgötaresan Uppsala 757 54 Sverige;X-APPLE-RADIUS=500;X-TITLE=Västgötaresan:geo:17.7022024,59.8085971
END:VEVENT
END:VCALENDAR