BEGIN:VCALENDAR
VERSION:2.0
PRODID:-//Arkiv för Barn i Uppsala - ECPv5.1.6//NONSGML v1.0//EN
CALSCALE:GREGORIAN
METHOD:PUBLISH
X-WR-CALNAME:Arkiv för Barn i Uppsala
X-ORIGINAL-URL:https://arkiv.barniuppsala.se
X-WR-CALDESC:Händelser för Arkiv för Barn i Uppsala
BEGIN:VTIMEZONE
TZID:Europe/Stockholm
BEGIN:DAYLIGHT
TZOFFSETFROM:+0100
TZOFFSETTO:+0200
TZNAME:CEST
DTSTART:20160327T010000
END:DAYLIGHT
BEGIN:STANDARD
TZOFFSETFROM:+0200
TZOFFSETTO:+0100
TZNAME:CET
DTSTART:20161030T010000
END:STANDARD
END:VTIMEZONE
BEGIN:VEVENT
DTSTART;TZID=Europe/Stockholm:20160327T110000
DTEND;TZID=Europe/Stockholm:20160327T170000
DTSTAMP:20260422T032951
CREATED:20160307T125702Z
LAST-MODIFIED:20200201T032407Z
UID:6324-1459076400-1459098000@arkiv.barniuppsala.se
SUMMARY:Legorobotar hos Biotopia
DESCRIPTION:Legorobotar hos Biotopia\, aktivitet under påsklovet. \nLegorobotverkstad i biolabbet. Passar barn 8-14 år.\nHar du någonsin byggt en robot? Nu har du chansen att prova!\nBoka in dig på ett robotpass (ca 2 timmar) då du får bygga ihop en legorobot som sedan får i uppdrag att ta sig igenom en bana. Du väljer dag och tid\, förmiddagspass kl 11-13 eller eftermiddagspass kl 14-16.\nMejla till: info@biotopia.nu\, för att anmäla dig. Ange barnens namn och ålder samt vilken dag och tid du önskar. \nDu får prova på att bygga och att skriva ett körprogram till roboten. Verkstaden är öppen för tjejer och killar\, man behöver inga speciella förkunskaper. Man kan komma ensam eller tillsammans med en kompis.\nMedhavda föräldrar och dylikt får vänta utanför labbet. \nBild: pixabay.com. \n0SHARESDela eventet
URL:https://arkiv.barniuppsala.se/event/legorobotar-hos-biotopia-3/2016-03-27/
LOCATION:Biotopia – Biologiska museet\, Vasagatan 4\, Uppsala\, 753 13\, Sverige
CATEGORIES:Lärande lek,Museum,Påsklov,Pyssel
ATTACH;FMTTYPE=image/jpeg:https://arkiv.barniuppsala.se/wp-content/uploads/2016/03/robot_lego.jpg
ORGANIZER;CN="Biotopia":MAILTO:info@biotopia.nu
END:VEVENT
END:VCALENDAR