BEGIN:VCALENDAR
VERSION:2.0
PRODID:-//Arkiv för Barn i Uppsala - ECPv5.1.6//NONSGML v1.0//EN
CALSCALE:GREGORIAN
METHOD:PUBLISH
X-WR-CALNAME:Arkiv för Barn i Uppsala
X-ORIGINAL-URL:https://arkiv.barniuppsala.se
X-WR-CALDESC:Händelser för Arkiv för Barn i Uppsala
BEGIN:VTIMEZONE
TZID:Europe/Stockholm
BEGIN:DAYLIGHT
TZOFFSETFROM:+0100
TZOFFSETTO:+0200
TZNAME:CEST
DTSTART:20150329T010000
END:DAYLIGHT
BEGIN:STANDARD
TZOFFSETFROM:+0200
TZOFFSETTO:+0100
TZNAME:CET
DTSTART:20151025T010000
END:STANDARD
END:VTIMEZONE
BEGIN:VEVENT
DTSTART;TZID=Europe/Stockholm:20151003T140000
DTEND;TZID=Europe/Stockholm:20151003T143000
DTSTAMP:20260420T091752
CREATED:20150629T075951Z
LAST-MODIFIED:20150707T085234Z
UID:2534-1443880800-1443882600@arkiv.barniuppsala.se
SUMMARY:Lilla Grisen flyger!
DESCRIPTION:Lördag. 2015-10-03. Kl.13:00 – 13:30.Lilla Grisen flyger! Lilla Grisen lever ett vanligt grisigt liv tillsammans med de andra grisarna\, hon bökar i jorden och äter sina skulor. Men – på natten drömmer hon att hon kan flyga! Hon frågar ett antal djur – men ingen av dem kan. Men mullvaden är bra på att gräva tunnlar\, haren kan skutta fort och grodan kan simma. Ett dockspel fritt efter en film av Alicja Jaworski. För barn 3-6 år. \nS:t Persgatan 22. Uppsala. Telefon +46 18151556. \n0SHARESDela eventet
URL:https://arkiv.barniuppsala.se/event/lilla-grisen-flyger-2/
LOCATION:Den Lilla Teatern\, S:t Persgatan 22\, Uppsala\, 753 29
CATEGORIES:Teater och Bio
ATTACH;FMTTYPE=image/jpeg:https://arkiv.barniuppsala.se/wp-content/uploads/2015/06/Flygande-gris.jpg
GEO:59.8618076;17.6424759
X-APPLE-STRUCTURED-LOCATION;VALUE=URI;X-ADDRESS=Den Lilla Teatern S:t Persgatan 22 Uppsala 753 29;X-APPLE-RADIUS=500;X-TITLE=S:t Persgatan 22:geo:17.6424759,59.8618076
END:VEVENT
END:VCALENDAR