BEGIN:VCALENDAR
VERSION:2.0
PRODID:-//Arkiv för Barn i Uppsala - ECPv5.1.6//NONSGML v1.0//EN
CALSCALE:GREGORIAN
METHOD:PUBLISH
X-WR-CALNAME:Arkiv för Barn i Uppsala
X-ORIGINAL-URL:https://arkiv.barniuppsala.se
X-WR-CALDESC:Händelser för Arkiv för Barn i Uppsala
BEGIN:VTIMEZONE
TZID:Europe/Stockholm
BEGIN:DAYLIGHT
TZOFFSETFROM:+0100
TZOFFSETTO:+0200
TZNAME:CEST
DTSTART:20150329T010000
END:DAYLIGHT
BEGIN:STANDARD
TZOFFSETFROM:+0200
TZOFFSETTO:+0100
TZNAME:CET
DTSTART:20151025T010000
END:STANDARD
END:VTIMEZONE
BEGIN:VEVENT
DTSTART;TZID=Europe/Stockholm:20150912T130000
DTEND;TZID=Europe/Stockholm:20150912T170000
DTSTAMP:20260419T232333
CREATED:20150730T083752Z
LAST-MODIFIED:20150730T083752Z
UID:2903-1442062800-1442077200@arkiv.barniuppsala.se
SUMMARY:Lilla kulturarvsdagen på Phytagoras
DESCRIPTION:Årets kulturarvsdag fokuserar på teknik och industri. Pythagoras industrimuseum anordnar en barnriktad temadag i samarbete med Norrtälje museum. Här får barnen prova på hur det var att vara barn förr i tiden. \n0SHARESDela eventet
URL:https://arkiv.barniuppsala.se/event/lilla-kulturarvsdagen-pa-phytagoras/
LOCATION:Pythagoras Industrimuseum\, Verkstadsgatan 6\, Norrtälje\, Sverige
CATEGORIES:Kunskap och Lärande,Motor,Museum
ATTACH;FMTTYPE=image/jpeg:https://arkiv.barniuppsala.se/wp-content/uploads/2015/07/school-467274_640.jpg
GEO:59.7552396;18.699317
X-APPLE-STRUCTURED-LOCATION;VALUE=URI;X-ADDRESS=Pythagoras Industrimuseum Verkstadsgatan 6 Norrtälje Sverige;X-APPLE-RADIUS=500;X-TITLE=Verkstadsgatan 6:geo:18.699317,59.7552396
END:VEVENT
END:VCALENDAR