BEGIN:VCALENDAR
VERSION:2.0
PRODID:-//Arkiv för Barn i Uppsala - ECPv5.1.6//NONSGML v1.0//EN
CALSCALE:GREGORIAN
METHOD:PUBLISH
X-WR-CALNAME:Arkiv för Barn i Uppsala
X-ORIGINAL-URL:https://arkiv.barniuppsala.se
X-WR-CALDESC:Händelser för Arkiv för Barn i Uppsala
BEGIN:VTIMEZONE
TZID:Europe/Stockholm
BEGIN:DAYLIGHT
TZOFFSETFROM:+0100
TZOFFSETTO:+0200
TZNAME:CEST
DTSTART:20150329T010000
END:DAYLIGHT
BEGIN:STANDARD
TZOFFSETFROM:+0200
TZOFFSETTO:+0100
TZNAME:CET
DTSTART:20151025T010000
END:STANDARD
END:VTIMEZONE
BEGIN:VEVENT
DTSTART;TZID=Europe/Stockholm:20151219T110000
DTEND;TZID=Europe/Stockholm:20151219T170000
DTSTAMP:20260420T212804
CREATED:20151215T133334Z
LAST-MODIFIED:20200201T033916Z
UID:4661-1450522800-1450544400@arkiv.barniuppsala.se
SUMMARY:Liv i Rymden\,
DESCRIPTION:I Biolabbet kan du som är i skolålder och uppåt spela fram varelser anpassade att leva på olika planeter i vårt solsystem. På nedervåningen kan yngre barn bygga en egen liten rymdraket och åka på planetresa. \n0SHARESDela eventet
URL:https://arkiv.barniuppsala.se/event/liv-i-rymden-4/
LOCATION:Biotopia – Biologiska museet\, Vasagatan 4\, Uppsala\, 753 13\, Sverige
CATEGORIES:Kunskap och Lärande,Lärande lek
ATTACH;FMTTYPE=image/jpeg:https://arkiv.barniuppsala.se/wp-content/uploads/2015/11/barnufon.jpg
END:VEVENT
END:VCALENDAR