BEGIN:VCALENDAR
VERSION:2.0
PRODID:-//Arkiv för Barn i Uppsala - ECPv5.1.6//NONSGML v1.0//EN
CALSCALE:GREGORIAN
METHOD:PUBLISH
X-WR-CALNAME:Arkiv för Barn i Uppsala
X-ORIGINAL-URL:https://arkiv.barniuppsala.se
X-WR-CALDESC:Händelser för Arkiv för Barn i Uppsala
BEGIN:VTIMEZONE
TZID:Europe/Stockholm
BEGIN:DAYLIGHT
TZOFFSETFROM:+0100
TZOFFSETTO:+0200
TZNAME:CEST
DTSTART:20160327T010000
END:DAYLIGHT
BEGIN:STANDARD
TZOFFSETFROM:+0200
TZOFFSETTO:+0100
TZNAME:CET
DTSTART:20161030T010000
END:STANDARD
END:VTIMEZONE
BEGIN:VEVENT
DTSTART;TZID=Europe/Stockholm:20161113T120000
DTEND;TZID=Europe/Stockholm:20161113T160000
DTSTAMP:20260420T162120
CREATED:20161107T100902Z
LAST-MODIFIED:20161107T100902Z
UID:9148-1479038400-1479052800@arkiv.barniuppsala.se
SUMMARY:Ljusexperiment på Gustavianum
DESCRIPTION:Ljusexperiment med 3D-glasögon\, artificiella regnbågar och skuggfigurer för hela familjen. \n\nBarnen får göra egna 3D-glasögon och pynta dem med färg och paljetter och sedan titta på en 3D-film för att se om glasögonen fungerar. Under dagen kan man även få göra regnbågar med hjälp av en lampa och en CD-skiva. Studentguider hjälper barnen att göra en egen teater med skuggfigurer. Det enda som krävs är fantasi\, en lampa och ett par händer! \nSöndagen den 13 november kl 12:00-16:00 i Museum Gustavianum. \nArrangör: Museum Gustavianum. Kontaktperson: Cecilia Ödman. \n\nENTRÉAVGIFTER\nBarn under 19 år: Gratis\nVuxna: 50 kronor \n0SHARESDela eventet
URL:https://arkiv.barniuppsala.se/event/ljusexperiment-pa-gustavianum/
LOCATION:Museum Gustavianum\, Akademigatan 3\, Uppsala\, 753 10\, Sverige
CATEGORIES:Museum,Pyssel
ATTACH;FMTTYPE=image/jpeg:https://arkiv.barniuppsala.se/wp-content/uploads/2016/11/3D-glasögon-e1478513273711.jpg
GEO:59.8579596;17.6318354
X-APPLE-STRUCTURED-LOCATION;VALUE=URI;X-ADDRESS=Museum Gustavianum Akademigatan 3 Uppsala 753 10 Sverige;X-APPLE-RADIUS=500;X-TITLE=Akademigatan 3:geo:17.6318354,59.8579596
END:VEVENT
END:VCALENDAR