BEGIN:VCALENDAR
VERSION:2.0
PRODID:-//Arkiv för Barn i Uppsala - ECPv5.1.6//NONSGML v1.0//EN
CALSCALE:GREGORIAN
METHOD:PUBLISH
X-WR-CALNAME:Arkiv för Barn i Uppsala
X-ORIGINAL-URL:https://arkiv.barniuppsala.se
X-WR-CALDESC:Händelser för Arkiv för Barn i Uppsala
BEGIN:VTIMEZONE
TZID:Europe/Stockholm
BEGIN:DAYLIGHT
TZOFFSETFROM:+0100
TZOFFSETTO:+0200
TZNAME:CEST
DTSTART:20160327T010000
END:DAYLIGHT
BEGIN:STANDARD
TZOFFSETFROM:+0200
TZOFFSETTO:+0100
TZNAME:CET
DTSTART:20161030T010000
END:STANDARD
END:VTIMEZONE
BEGIN:VEVENT
DTSTART;TZID=Europe/Stockholm:20160412T180000
DTEND;TZID=Europe/Stockholm:20160412T184000
DTSTAMP:20260420T045900
CREATED:20160408T085323Z
LAST-MODIFIED:20160408T085323Z
UID:6633-1460484000-1460486400@arkiv.barniuppsala.se
SUMMARY:Lötens flickkör
DESCRIPTION:En kör för dig som går i årskurs 2 till 4 och tycker att det är kul att sjunga! \n\n\n\n\n\nAnmälan\n\n\n\n\nGunnel Hällqvist \n\nDirekt:018-430 37 95 \nE-post till Gunnel Hällqvist \n\n\nUppdrag:\nMusiker – Gamla Uppsala församling \n\n\n\n\n\n\n\n 0SHARESDela eventet
URL:https://arkiv.barniuppsala.se/event/lotens-flickkor/2016-04-12/
LOCATION:Lötenkyrkan\, Heidenstamsgatan 71\, Uppsala\, 754 27\, Sverige
CATEGORIES:Teater och Bio
ATTACH;FMTTYPE=image/jpeg:https://arkiv.barniuppsala.se/wp-content/uploads/2016/04/singing-18382_960_720-e1460109164978.jpg
GEO:59.8780519;17.6466608
X-APPLE-STRUCTURED-LOCATION;VALUE=URI;X-ADDRESS=Lötenkyrkan Heidenstamsgatan 71 Uppsala 754 27 Sverige;X-APPLE-RADIUS=500;X-TITLE=Heidenstamsgatan 71:geo:17.6466608,59.8780519
END:VEVENT
END:VCALENDAR