BEGIN:VCALENDAR
VERSION:2.0
PRODID:-//Arkiv för Barn i Uppsala - ECPv5.1.6//NONSGML v1.0//EN
CALSCALE:GREGORIAN
METHOD:PUBLISH
X-WR-CALNAME:Arkiv för Barn i Uppsala
X-ORIGINAL-URL:https://arkiv.barniuppsala.se
X-WR-CALDESC:Händelser för Arkiv för Barn i Uppsala
BEGIN:VTIMEZONE
TZID:Europe/Stockholm
BEGIN:DAYLIGHT
TZOFFSETFROM:+0100
TZOFFSETTO:+0200
TZNAME:CEST
DTSTART:20200329T010000
END:DAYLIGHT
BEGIN:STANDARD
TZOFFSETFROM:+0200
TZOFFSETTO:+0100
TZNAME:CET
DTSTART:20201025T010000
END:STANDARD
END:VTIMEZONE
BEGIN:VEVENT
DTSTART;TZID=Europe/Stockholm:20201221T080000
DTEND;TZID=Europe/Stockholm:20201221T200000
DTSTAMP:20260419T164846
CREATED:20201123T141928Z
LAST-MODIFIED:20201123T142743Z
UID:71529-1608537600-1608580800@arkiv.barniuppsala.se
SUMMARY:Lovquiz: Tema tv-spel | Digitalt event
DESCRIPTION:Lovquiz: Tema tv-spel\nOk\, är du redo att testa dina kunskaper om tv-spel i en lovquiz? I potten ligger 5 biobiljetter och det spelar ingen roll om du är sämst på Fortnite. \nNär quizzet startar lägger Bibliotek Uppsala ut Game PIN på webben och sociala medier! \nKom du på topplistan? För att tävla om finfina priser maila in ditt alias till tavling.bibliotek@uppsala.se senast den 12 januari. \nDatum: Måndag 21 december 2020 till måndag 11 januari 2021\nTid: 08:00-20:00\nPlats: Online\nÅlder: Barn och ungdom\nArrangör: Bibliotek Uppsala \n\nOm Bibliotek Uppsala\nBibliotek Uppsala är det övergripande namnet för Uppsala kommuns folkbiblioteksverksamhet\, och där ingår Uppsala Stadsbibliotek. \nBibliotek Uppsala vill vara en plats för möten\, kunskap och upplevelser. Tanken är att ge alla Uppsalabor tillgång till berättelser och information som kan ge nya insikter och nya perspektiv. Genom ett författarsamtal\, en bok\, en utställning\, en sagostund eller någon annan av de hundratals aktiviteter och arrangemang som erbjuds varje år. \nVerksamheten omfattar bland annat 13 bibliotek\, två bokbussar\, fyra bibliotekscyklar och ett bibliotek på nätet. \n  \n\nBesök gärna länkarna nedan (externa länkar öppnas i ett nytt fönster/flik). \nBibliotek Uppsala | Kommande inom Spel och Tävling \nFoto: Kelly Sikkema \n0SHARESDela eventet
URL:https://arkiv.barniuppsala.se/event/lovquiz-tv-spel-bibliotek-uppsala/2020-12-21/
LOCATION:– Digitalt Event –\, Sverige
CATEGORIES:Ålderskategori,Anmälan / Kostnad,Barn,Digitala event,Eventkategorier,Geografisk kategori,Gratis,Högtid,Ingen föranmälan,Jul,Jullov,Skollov,Spel & tävling,Ungdom
ATTACH;FMTTYPE=image/jpeg:https://arkiv.barniuppsala.se/wp-content/uploads/2020/11/kelly-sikkema-bUgaIaZysH0-unsplash-e1606140061513.jpg
ORGANIZER;CN="Bibliotek%20Uppsala":MAILTO:kundtjanst@bibliotekuppsala.se
END:VEVENT
END:VCALENDAR