BEGIN:VCALENDAR
VERSION:2.0
PRODID:-//Arkiv för Barn i Uppsala - ECPv5.1.6//NONSGML v1.0//EN
CALSCALE:GREGORIAN
METHOD:PUBLISH
X-WR-CALNAME:Arkiv för Barn i Uppsala
X-ORIGINAL-URL:https://arkiv.barniuppsala.se
X-WR-CALDESC:Händelser för Arkiv för Barn i Uppsala
BEGIN:VTIMEZONE
TZID:Europe/Stockholm
BEGIN:DAYLIGHT
TZOFFSETFROM:+0100
TZOFFSETTO:+0200
TZNAME:CEST
DTSTART:20160327T010000
END:DAYLIGHT
BEGIN:STANDARD
TZOFFSETFROM:+0200
TZOFFSETTO:+0100
TZNAME:CET
DTSTART:20161030T010000
END:STANDARD
END:VTIMEZONE
BEGIN:VEVENT
DTSTART;TZID=Europe/Stockholm:20161210T180000
DTEND;TZID=Europe/Stockholm:20161210T180000
DTSTAMP:20260420T002627
CREATED:20161205T130034Z
LAST-MODIFIED:20161205T134647Z
UID:9525-1481392800-1481392800@arkiv.barniuppsala.se
SUMMARY:Luciafirande i Lötenkyrkan
DESCRIPTION:Luciafirande i Lötenkyrkan\, lördag 10 december kl  18. \nBarn & Ungdomskörerna sjunger\, CD-release och festligt fika utlovas. \nFoto: sv.wikipedia.org/wiki/Fil:Lucia-13.12.06.jpg. \n0SHARESDela eventet
URL:https://arkiv.barniuppsala.se/event/luciafirande-i-lotenkyrkan/
LOCATION:Lötenkyrkan\, Heidenstamsgatan 71\, Uppsala\, 754 27\, Sverige
CATEGORIES:Jul,Lucia
ATTACH;FMTTYPE=image/jpeg:https://arkiv.barniuppsala.se/wp-content/uploads/2016/12/lucia_i_kyrka.jpg
GEO:59.8780519;17.6466608
X-APPLE-STRUCTURED-LOCATION;VALUE=URI;X-ADDRESS=Lötenkyrkan Heidenstamsgatan 71 Uppsala 754 27 Sverige;X-APPLE-RADIUS=500;X-TITLE=Heidenstamsgatan 71:geo:17.6466608,59.8780519
END:VEVENT
END:VCALENDAR