BEGIN:VCALENDAR
VERSION:2.0
PRODID:-//Arkiv för Barn i Uppsala - ECPv5.1.6//NONSGML v1.0//EN
CALSCALE:GREGORIAN
METHOD:PUBLISH
X-WR-CALNAME:Arkiv för Barn i Uppsala
X-ORIGINAL-URL:https://arkiv.barniuppsala.se
X-WR-CALDESC:Händelser för Arkiv för Barn i Uppsala
BEGIN:VTIMEZONE
TZID:Europe/Stockholm
BEGIN:DAYLIGHT
TZOFFSETFROM:+0100
TZOFFSETTO:+0200
TZNAME:CEST
DTSTART:20190331T010000
END:DAYLIGHT
BEGIN:STANDARD
TZOFFSETFROM:+0200
TZOFFSETTO:+0100
TZNAME:CET
DTSTART:20191027T010000
END:STANDARD
END:VTIMEZONE
BEGIN:VEVENT
DTSTART;TZID=Europe/Stockholm:20191215T170000
DTEND;TZID=Europe/Stockholm:20191215T180000
DTSTAMP:20260421T083831
CREATED:20191212T101421Z
LAST-MODIFIED:20191212T131538Z
UID:53647-1576429200-1576432800@arkiv.barniuppsala.se
SUMMARY:Luciasim med Upsala Simsällskap | Fyrishov
DESCRIPTION:Luciasim med Upsala Simsällskap | Fyrishov\nI samband med Lucia har Upsala Simsällskap långa traditioner med vackert luciatåg samt klubbmästerskap. \n\nLuciatåg\nSång och musik\nKM A- och B-final (en klass för dam och en klass för herr)\nDragning julklappslotteri\nUppvisning av simgrupperna\nStipendieutdelning\nÖverraskning\n\nUS Shop har försäljning under kvällen. Ingång via stora publikentrén. Simmare går in på sitt träningskort. \nDatum: Söndagen den 15 december 2019\nTid: 17:00 – 18:00\nPlats: Fyrishov\, Simhallen\nÅlder: Ej angivet\nPris: \nBarn 0-3 år: Fri entré\nBarn 4-15 år: 95 kronor\nVuxen 16 år och uppåt: 115 kronor \nArrangör: Upsala Simsällskap \n\nOm Simsällskapet\nDeras uppgift är att erbjuda en bred och attraktiv verksamhet inom simidrott. Simidrotten ska organiseras effektivt och rikta sig till alla samhällsmedborgare. Verksamheten omfattar vattenvana\, simundervisning\, hälsa och motion\, träning och tävlingsdeltagande både nationellt och internationellt. Därutöver omfattar verksamheten utbildning för tränare och funktionärer\, ledarutveckling och skapande av arrangemang. \n\nBesök gärna länkarna nedan (externa länkar öppnas i ett nytt fönster/flik).\nLuciasim på fyrishov | Kommande event inom lucia | Kommande event på julen \nFoto: Jenny Fjärstedt \n0SHARESDela eventet
URL:https://arkiv.barniuppsala.se/event/luciasim-med-upsala-simsallskap-fyrishov/
LOCATION:Fyrishov\, Idrottsgatan 2\, Uppsala\, 753 33\, Sverige
CATEGORIES:Ålderskategori,Anmälan / Kostnad,Bad,Barn,Familj,Förköp / Bokning,Geografisk kategori,Gratis med medlemskap,Högtid,Jul,Lucia,Svartbäcken,Ungdom,Uppvisning,? Uppsala
ATTACH;FMTTYPE=image/jpeg:https://arkiv.barniuppsala.se/wp-content/uploads/2019/12/700x384_Luciasim.jpg
ORGANIZER;CN="Upsala%20Sims%C3%A4llskap":MAILTO: kansli@upsalasim.nu
GEO:59.8705229;17.6233124
X-APPLE-STRUCTURED-LOCATION;VALUE=URI;X-ADDRESS=Fyrishov Idrottsgatan 2 Uppsala 753 33 Sverige;X-APPLE-RADIUS=500;X-TITLE=Idrottsgatan 2:geo:17.6233124,59.8705229
END:VEVENT
END:VCALENDAR