BEGIN:VCALENDAR
VERSION:2.0
PRODID:-//Arkiv för Barn i Uppsala - ECPv5.1.6//NONSGML v1.0//EN
CALSCALE:GREGORIAN
METHOD:PUBLISH
X-WR-CALNAME:Arkiv för Barn i Uppsala
X-ORIGINAL-URL:https://arkiv.barniuppsala.se
X-WR-CALDESC:Händelser för Arkiv för Barn i Uppsala
BEGIN:VTIMEZONE
TZID:Europe/Stockholm
BEGIN:DAYLIGHT
TZOFFSETFROM:+0100
TZOFFSETTO:+0200
TZNAME:CEST
DTSTART:20180325T010000
END:DAYLIGHT
BEGIN:STANDARD
TZOFFSETFROM:+0200
TZOFFSETTO:+0100
TZNAME:CET
DTSTART:20181028T010000
END:STANDARD
END:VTIMEZONE
BEGIN:VEVENT
DTSTART;TZID=Europe/Stockholm:20180726T150000
DTEND;TZID=Europe/Stockholm:20180726T160000
DTSTAMP:20260422T013519
CREATED:20180719T014350Z
LAST-MODIFIED:20180719T014350Z
UID:20400-1532617200-1532620800@arkiv.barniuppsala.se
SUMMARY:Marhaba Hej - en teater för barn om att vara lika fast olika
DESCRIPTION:MARHABA HEJ\nTorsdag 26 juli\, kl 14.00\nNär Gabbe en dag får en ny granne\, Nadin\, blir det inte riktigt som han tänkt sig. Nadin är helt annorlunda än han själv; pratar högt på ett främmande språk och vill trumma och ha fest när det är läggdags i huset. Kan man vara vänner även om man är olika? Är det möjligt att vara lika fast man ser olika ut? Hur gör man för att vara vänner och trivas tillsammans men samtidigt ha respekt för att alla är olika?\nMellanöstern presenteras genom instrumenten daf från Iran\, saz från Turkiet och oud från Irak. Med musik och sång berättas historien om en spirande vänskap mellan två mycket olika personer.\nEfter föreställningen följer ett samtal (10-15 minuter) där Nadin Al-Khalidi och Gabriel Hermansson talar med barnen om vad de sett och upplevt\, om kulturkrockar och om hur man kan göra för att ha respekt för att alla faktiskt är olika. \nMedverkande:\nNadin Al-khalidi\, sång\, saz\, daf\nGabriel Hermansson\, sång\, gitarr\, oud. \nMer information:\nhttp://marhabahej.blogspot.se/ \nFRI ENTRÉ \n(Bild från marhabahej.blogspot.com) \n0SHARESDela eventet
URL:https://arkiv.barniuppsala.se/event/marhaba-hej-en-teater-for-barn-om-att-vara-lika-fast-olika/
LOCATION:Parksnäckan\, Stadsträdgården\, Uppsala\, 75309\, Sverige
CATEGORIES:Barn,Teater,Teater och Bio
ATTACH;FMTTYPE=image/jpeg:https://arkiv.barniuppsala.se/wp-content/uploads/2018/06/G110125_1792-copy-2-e1531967800683.jpeg
GEO:59.851382;17.644544
X-APPLE-STRUCTURED-LOCATION;VALUE=URI;X-ADDRESS=Parksnäckan Stadsträdgården Uppsala 75309 Sverige;X-APPLE-RADIUS=500;X-TITLE=Stadsträdgården:geo:17.644544,59.851382
END:VEVENT
END:VCALENDAR