BEGIN:VCALENDAR
VERSION:2.0
PRODID:-//Arkiv för Barn i Uppsala - ECPv5.1.6//NONSGML v1.0//EN
CALSCALE:GREGORIAN
METHOD:PUBLISH
X-WR-CALNAME:Arkiv för Barn i Uppsala
X-ORIGINAL-URL:https://arkiv.barniuppsala.se
X-WR-CALDESC:Händelser för Arkiv för Barn i Uppsala
BEGIN:VTIMEZONE
TZID:Europe/Stockholm
BEGIN:DAYLIGHT
TZOFFSETFROM:+0100
TZOFFSETTO:+0200
TZNAME:CEST
DTSTART:20190331T010000
END:DAYLIGHT
BEGIN:STANDARD
TZOFFSETFROM:+0200
TZOFFSETTO:+0100
TZNAME:CET
DTSTART:20191027T010000
END:STANDARD
END:VTIMEZONE
BEGIN:VEVENT
DTSTART;TZID=Europe/Stockholm:20190824T200000
DTEND;TZID=Europe/Stockholm:20190824T200000
DTSTAMP:20260419T182303
CREATED:20190718T074629Z
LAST-MODIFIED:20190718T074629Z
UID:44408-1566676800-1566676800@arkiv.barniuppsala.se
SUMMARY:Markus Krunegård | Parksnäckan - Stadsträdgården
DESCRIPTION:Markus Krunegård | Parksnäckan – Stadsträdgården\nBrink & Berger presenterar stolt Markus Krunegård den 24 augusti på Parksnäckan i Uppsala. \nSupport: Junior Brielle \nFörra året kom det första\, nya materialet från Markus Krunegård på flera år. Sedan albumet ”I huvet på en idiot\, i en bar\, på en ö\, i ett hav\, på en ö\, i en bar\, i huvet på en idiot” släpptes i september har Markus bevisat att han är en levande legend inom svensk musik och att han hör hemma på scenen. Det blev en näst intill utsåld höstturné med flera extradatum och\, som kronan på verket\, även en Grammisnominering för Årets Textförfattare. \nDatum: Lördag 24 augusti. \nTid: \n19.00\nInsläpp Förköp: 17.45\nInsläpp Övriga: 18.15 \nPlats:  Parksnäckan \nÅlder:  \nDen lägsta åldersgränsen för inträde på Parksnäckan är 3 år. Barn 3 till 12 år betalar halva ordinarie pris på vissa av kvällskonserterna. Barn 13 år eller äldre betalar fullt pris på kvällskonserterna och får tillträde till området endast i sällskap av målsman eller annan vuxen med av målsman giltig fullmakt. \nPris: \nFörköp: 380 kr + service. \nFörköp ger garanterad plats om man kommer senast 45 minuter innan föreställning. \nBiljett:  \nFörköpsbiljetter säljs på tickster.se\, samt UNT-butiken på Kungsgatan.\nGivetvis säljs biljetter till ordinarie pris vid ingång 45 minuter innan konsertstart. \nTillgänglighet:  \nKontakta Parknöje i Uppsala 018-711411 om du har särskilda önskemål i samband med konserten. På plats finns värdar\, vakter eller annan personal som du kan fråga. Fri entré för medföljare/ledsagare\, ledsagarbevis behövs. Inga speciella rullstolsbiljetter behöver köpas. Värdarna hänvisar till er plats. Vid sidan om bänkraderna finns det gott om plats för rullstol eller andra hjälpmedel. Det finns en RWC-toalett på Parksnäckan. \n\nOm Parksnäckan\nParksnäckan har ca 700 bänkplatser med ryggstöd och vid behov ytterligare 300 stolar som kan ställas ut. Utöver det finns det ca 300 ståplatser. Alla platser har en oöverträffad sikt eftersom scenen är byggd som en halvmåne och publikområdet är stor på bredden. En kommer alltså mycket nära oavsett plats. Kom i tid så ökar du dina chanser att få sitta där du vill sitta. Publikkapaciteten är 1300 pers. \nDet finns två entréer in till Parksnäckan. Den närmast ån är den som används vid kvällsevenemang. Vid barnprogram används även entré närmast parken och Café Gula Villan. \nPå Parksnäckan hålls givetvis volymen inom lagens gränser men barns hörsel är som bekant känsligare än vuxnas. Småbarn bör alltid ha hörselkåpor på och dom lite äldre öronproppar. Målsman ansvarar för att medföljande barn under 13 år använder någon form av hörselskydd inne på området. Öronproppar kan du köpa i Parksnäckans servering. \n\nBesök gärna följade länkar nedan (externa länkar öppnas i nytt fönster/flik) \nParksnäckan | Kommande event inom sång och musik | Kommande event på Parksnäckan \nBild: Wikipedia \n0SHARESDela eventet
URL:https://arkiv.barniuppsala.se/event/markus-krunegard-parksnackan/
LOCATION:Parksnäckan\, Stadsträdgården\, Uppsala\, 75309\, Sverige
CATEGORIES:För föräldrar,Konsert,Sång och Musik,Teater och Bio,Ungdom,Utomhusaktivitet
ATTACH;FMTTYPE=image/jpeg:https://arkiv.barniuppsala.se/wp-content/uploads/2019/07/Markus_Krunegård_i_Stockholm_februari_2018-e1563266916271.jpg
GEO:59.851382;17.644544
X-APPLE-STRUCTURED-LOCATION;VALUE=URI;X-ADDRESS=Parksnäckan Stadsträdgården Uppsala 75309 Sverige;X-APPLE-RADIUS=500;X-TITLE=Stadsträdgården:geo:17.644544,59.851382
END:VEVENT
END:VCALENDAR