BEGIN:VCALENDAR
VERSION:2.0
PRODID:-//Arkiv för Barn i Uppsala - ECPv5.1.6//NONSGML v1.0//EN
CALSCALE:GREGORIAN
METHOD:PUBLISH
X-WR-CALNAME:Arkiv för Barn i Uppsala
X-ORIGINAL-URL:https://arkiv.barniuppsala.se
X-WR-CALDESC:Händelser för Arkiv för Barn i Uppsala
BEGIN:VTIMEZONE
TZID:Europe/Stockholm
BEGIN:DAYLIGHT
TZOFFSETFROM:+0100
TZOFFSETTO:+0200
TZNAME:CEST
DTSTART:20160327T010000
END:DAYLIGHT
BEGIN:STANDARD
TZOFFSETFROM:+0200
TZOFFSETTO:+0100
TZNAME:CET
DTSTART:20161030T010000
END:STANDARD
END:VTIMEZONE
BEGIN:VEVENT
DTSTART;TZID=Europe/Stockholm:20160116T110000
DTEND;TZID=Europe/Stockholm:20160116T170000
DTSTAMP:20260422T205807
CREATED:20160105T094256Z
LAST-MODIFIED:20200201T034152Z
UID:5683-1452942000-1452963600@arkiv.barniuppsala.se
SUMMARY:Mata vinterfåglar!
DESCRIPTION:Mata vinterfåglar! Nu är det dags att ladda upp inför den årliga vinterfågelräkningen som sker den sista helgen i januari. Var med och gör en smaskig fröboll att bjuda fåglarna på och öva dig på att känna igen olika arter. \nHos Biotopia kan du göra detta alla lördagar och söndagar 16-31 januari. \nMer info om fågelräkningen finns här. \nBild: pixabay.com. \n0SHARESDela eventet
URL:https://arkiv.barniuppsala.se/event/mata-vinterfaglar/2016-01-16/
LOCATION:Biotopia – Biologiska museet\, Vasagatan 4\, Uppsala\, 753 13\, Sverige
CATEGORIES:Djur
ATTACH;FMTTYPE=image/jpeg:https://arkiv.barniuppsala.se/wp-content/uploads/2016/01/fågelmat.jpg
ORGANIZER;CN="Biotopia":MAILTO:info@biotopia.nu
END:VEVENT
END:VCALENDAR