BEGIN:VCALENDAR
VERSION:2.0
PRODID:-//Arkiv för Barn i Uppsala - ECPv5.1.6//NONSGML v1.0//EN
CALSCALE:GREGORIAN
METHOD:PUBLISH
X-WR-CALNAME:Arkiv för Barn i Uppsala
X-ORIGINAL-URL:https://arkiv.barniuppsala.se
X-WR-CALDESC:Händelser för Arkiv för Barn i Uppsala
BEGIN:VTIMEZONE
TZID:Europe/Stockholm
BEGIN:DAYLIGHT
TZOFFSETFROM:+0100
TZOFFSETTO:+0200
TZNAME:CEST
DTSTART:20170326T010000
END:DAYLIGHT
BEGIN:STANDARD
TZOFFSETFROM:+0200
TZOFFSETTO:+0100
TZNAME:CET
DTSTART:20171029T010000
END:STANDARD
END:VTIMEZONE
BEGIN:VEVENT
DTSTART;TZID=Europe/Stockholm:20170705T230000
DTEND;TZID=Europe/Stockholm:20170705T013000
DTSTAMP:20260421T121153
CREATED:20170629T122614Z
LAST-MODIFIED:20170629T122614Z
UID:14373-1499295600-1499218200@arkiv.barniuppsala.se
SUMMARY:Midnattsbad för hela familjen
DESCRIPTION:Sommarbad under natten\n\nDen 5 juli kl. 22:00-00.30 är det nattbad på Fyrishov. Bada mitt i natten under bar himmel\, grilla marshmallows och värm dig i den vedeldade bastun. Skön stämning med DJ Johan Lunde som spelar i sommarnatten. Serveringen är öppen med grillat och goda drycker. Du träffar även Kaj Krokodil som glider runt i nattmössan. \nDet här får du inte missa!\nPris 50 kronor\, fri entré för alla med Sommarpasset\, periodkort eller årskort genom sommarentrén. \n\n\nÅldersgräns 18 år eller i förälders sällskap\, max 4 barn per förälder. \nBild från pixabay.com \n\n 0SHARESDela eventet
URL:https://arkiv.barniuppsala.se/event/midnattsbad-hela-familjen/
LOCATION:Fyrishov\, Idrottsgatan 2\, Uppsala\, 753 33\, Sverige
CATEGORIES:Barn,Sommarlov,Ungdom,Utomhusaktivitet
ATTACH;FMTTYPE=image/jpeg:https://arkiv.barniuppsala.se/wp-content/uploads/2017/06/midnattsbad-e1498742737165.jpg
GEO:59.8705229;17.6233124
X-APPLE-STRUCTURED-LOCATION;VALUE=URI;X-ADDRESS=Fyrishov Idrottsgatan 2 Uppsala 753 33 Sverige;X-APPLE-RADIUS=500;X-TITLE=Idrottsgatan 2:geo:17.6233124,59.8705229
END:VEVENT
END:VCALENDAR