BEGIN:VCALENDAR
VERSION:2.0
PRODID:-//Arkiv för Barn i Uppsala - ECPv5.1.6//NONSGML v1.0//EN
CALSCALE:GREGORIAN
METHOD:PUBLISH
X-WR-CALNAME:Arkiv för Barn i Uppsala
X-ORIGINAL-URL:https://arkiv.barniuppsala.se
X-WR-CALDESC:Händelser för Arkiv för Barn i Uppsala
BEGIN:VTIMEZONE
TZID:Europe/Stockholm
BEGIN:DAYLIGHT
TZOFFSETFROM:+0100
TZOFFSETTO:+0200
TZNAME:CEST
DTSTART:20170326T010000
END:DAYLIGHT
BEGIN:STANDARD
TZOFFSETFROM:+0200
TZOFFSETTO:+0100
TZNAME:CET
DTSTART:20171029T010000
END:STANDARD
END:VTIMEZONE
BEGIN:VEVENT
DTSTART;TZID=Europe/Stockholm:20170623T133000
DTEND;TZID=Europe/Stockholm:20170623T163000
DTSTAMP:20260421T203037
CREATED:20170620T082221Z
LAST-MODIFIED:20170620T082221Z
UID:14115-1498224600-1498235400@arkiv.barniuppsala.se
SUMMARY:Midsommarfirande i Ekeby by\, Vänge
DESCRIPTION:Välkommen att fira midsommar i Ekeby by\nKlockan 13.00 reses midsommarstången\, sedan blir det sång och dans. Kaffe serveras och som vanligt finns det fiskdamm\, chokladhjul och pilkastning med mera. Välkomna till midsommarfirande i Ekeby by! \nEkeby by ligger ungefär 10 km väster om Uppsala\, väg 72 till Sala eller buss 848\, hållplats Vänge Ekeby. \nLäs mer om Vänge Hembygdsförenings sommarprogram 2017 (pdf) \nBild från sv.wikipedia.org/wiki \n2SHARESDela eventet
URL:https://arkiv.barniuppsala.se/event/midsommarfirande-ekeby-vange/
LOCATION:Ekeby by Vänge\, Vänge-ekeby 119\, Vänge\, 740 20\, Sverige
CATEGORIES:Midsommar
ATTACH;FMTTYPE=image/png:https://arkiv.barniuppsala.se/wp-content/uploads/2017/06/midsommar-e1497950485314.png
GEO:59.8493125;17.452114
X-APPLE-STRUCTURED-LOCATION;VALUE=URI;X-ADDRESS=Ekeby by Vänge Vänge-ekeby 119 Vänge 740 20 Sverige;X-APPLE-RADIUS=500;X-TITLE=Vänge-ekeby 119:geo:17.452114,59.8493125
END:VEVENT
END:VCALENDAR