BEGIN:VCALENDAR
VERSION:2.0
PRODID:-//Arkiv för Barn i Uppsala - ECPv5.1.6//NONSGML v1.0//EN
CALSCALE:GREGORIAN
METHOD:PUBLISH
X-WR-CALNAME:Arkiv för Barn i Uppsala
X-ORIGINAL-URL:https://arkiv.barniuppsala.se
X-WR-CALDESC:Händelser för Arkiv för Barn i Uppsala
BEGIN:VTIMEZONE
TZID:Europe/Stockholm
BEGIN:DAYLIGHT
TZOFFSETFROM:+0100
TZOFFSETTO:+0200
TZNAME:CEST
DTSTART:20170326T010000
END:DAYLIGHT
BEGIN:STANDARD
TZOFFSETFROM:+0200
TZOFFSETTO:+0100
TZNAME:CET
DTSTART:20171029T010000
END:STANDARD
END:VTIMEZONE
BEGIN:VEVENT
DTSTART;TZID=Europe/Stockholm:20170623T140000
DTEND;TZID=Europe/Stockholm:20170623T140000
DTSTAMP:20260421T220804
CREATED:20170125T150513Z
LAST-MODIFIED:20170531T104924Z
UID:10516-1498226400-1498226400@arkiv.barniuppsala.se
SUMMARY:Midsommarfirande på Öregrunds hembygdsgård
DESCRIPTION:Midsommarfirande på Öregrunds hembygdsgård\nFör sjuttionde året i rad firas midsommar på Öregrunds hembygdsgård. \nAlla är varmt välkomna till hembygdsgården för midsommarfirande.\nServering från klockan 13:00.\nMidsommarstången reses klockan 15:00.\nMusikant leder dansen kring midsommarstången.\n\nBild från google.se\n 0SHARESDela eventet
URL:https://arkiv.barniuppsala.se/event/midsommarfirande-pa-oregrunds-hembygdsgard/
LOCATION:Öregrunds hembygdsgård\, Västergatan 14\, Öregrund\, 742 42\, Sverige
CATEGORIES:Midsommar,Sång och Musik,Sommarlov
ATTACH;FMTTYPE=image/jpeg:https://arkiv.barniuppsala.se/wp-content/uploads/2017/05/Midsommarstång-e1496230533207.jpg
GEO:60.3390141;18.4380777
X-APPLE-STRUCTURED-LOCATION;VALUE=URI;X-ADDRESS=Öregrunds hembygdsgård Västergatan 14 Öregrund 742 42 Sverige;X-APPLE-RADIUS=500;X-TITLE=Västergatan 14:geo:18.4380777,60.3390141
END:VEVENT
END:VCALENDAR