BEGIN:VCALENDAR
VERSION:2.0
PRODID:-//Arkiv för Barn i Uppsala - ECPv5.1.6//NONSGML v1.0//EN
CALSCALE:GREGORIAN
METHOD:PUBLISH
X-WR-CALNAME:Arkiv för Barn i Uppsala
X-ORIGINAL-URL:https://arkiv.barniuppsala.se
X-WR-CALDESC:Händelser för Arkiv för Barn i Uppsala
BEGIN:VTIMEZONE
TZID:Europe/Stockholm
BEGIN:DAYLIGHT
TZOFFSETFROM:+0100
TZOFFSETTO:+0200
TZNAME:CEST
DTSTART:20190331T010000
END:DAYLIGHT
BEGIN:STANDARD
TZOFFSETFROM:+0200
TZOFFSETTO:+0100
TZNAME:CET
DTSTART:20191027T010000
END:STANDARD
END:VTIMEZONE
BEGIN:VEVENT
DTSTART;TZID=Europe/Stockholm:20190908T110000
DTEND;TZID=Europe/Stockholm:20190908T153000
DTSTAMP:20260421T123402
CREATED:20190904T081208Z
LAST-MODIFIED:20200201T033328Z
UID:46873-1567940400-1567956600@arkiv.barniuppsala.se
SUMMARY:Upptakt inför Miljövänliga Veckan 2019 | NSF Uppsala
DESCRIPTION:Upptakt inför Miljövänliga Veckan 2019\nFixa grejen – dela mera\nVecka 40 är det dags för Miljövänliga Veckan. Kampanjveckorna 2018-2020 handlar om att inspirera och ”ta tillvara på det ni har”. Ni gör det tillsammans genom att uppmärksamma överkonsumtionens baksidor\, peppa till att laga\, vårda\, återbruka – ”Fixa grejen!” De vill också inspirera till delande – hyra\, byta\, låna. \nUnder upptakten går ni igenom kampanjhandledningen och diskuterar aktiviteter som ni är sugna på att göra. Ni provar också på att göra bivaxdukar och ett prylbyte\, ta med en tygbit\, en bra pocketbok eller en fin stickling att byta med. \nProgram:\n11:00 Välkommen och introduktion\n11:15 Faktaföreläsning\, vägar till hållbar konsumtion\n11:45 Genomgång Kampanjmaterial\n12:15 Lunch\, vegetarisk\n13:15 Pocket och sticklingbyte\n13:30 Ni gör bivaxdukar\n14:00 Guidad tur\n14:30 Vad vill ni göra lokalt? Gruppdiskussion\n15:30 Slut \nDatum: Söndag 8 september 2019\nTid: 11:00 – 15:30\nPlats: Biotopia\, Vasagatan 4\, Uppsala\nÅlder: Ej angivet\nKostnad: Gratis för medlemmar i Naturskyddsföreningen. För övriga\, självkostnadspris för lunch och fika. Kontant betalning max 50 kr.\nBli gärna medlem!\nAnmälan och info: kristina.kayzer@naturskyddsforeningen.se\nMedlemskap: Nej men bli gärna medlem!\nArrangör: Naturskyddsföreningen Uppsala\nMat: De kommer erbjuda lunch (allt ekologiskt och vegetariskt). Allergier och önskemål om specialkost meddelas i samband med anmälan. \n\nMiljövänliga Veckan genom åren\nNaturskyddsföreningen har arrangerat Miljövänliga veckan sen 1990. Cirka 130 kretsar runt om i landet brukar ha någon aktivitet. Det kan handla om allt ifrån att sätta upp några affischer till att ta ledigt i två månader och driva kampanjen. Fler och fler aktörer utanför föreningen hakar på. Den stora aktiviteten runt om i landet påverkar! \nHär är några exempel: \n\nUnder kampanjen Fräsch på riktigt skrev 8 000 personer på för ett större utbud av miljömärkta skönhets- och hygienprodukter i butikerna. Över 1000 personer provade på att göra egen deo\, cerat och torrschampo i deras workshops.\nEfter kampanjen Byt till eko ökade ekoförsäljningen med 39 procent!\nInför med temat Ekofika peppade de bagerikedjorna att ta fram mjuka ekobröd. Fyra stora bagerier lyssnade och lanserade nya ekoprodukter till brödhyllan.\nInnan den första kampanjveckan om kaffe i mitten av 90-talet fanns ett enda ekologisk kaffe\, i hälsokosten. Efter kampanjveckan fanns tio olika sorter. Efter första kampanjveckan för ekologiska bananer såldes lika mycket ekobananer på två veckor som man sålt på ett år innan.\nInnan deras kampanj om miljömärkt och ekologisk textil fanns handdukar och lakan av ekologisk bomull hos en butikskedja. Efter veckan fanns det på fyra. Så kampanjveckan påverkar och om du hjälper till blir de ännu starkare.\n\n\nBesök gärna länkarna nedan (externa länkar öppnas i ett nytt fönster/flik). \nBiotopia | Naturskyddsföreningen Uppsala | Kommande samhällsevent | Kommande event kunskap och lärande | Kommande prova på event \nBild: pixabay.com<<< \n0SHARESDela eventet
URL:https://arkiv.barniuppsala.se/event/miljovanliga-veckan-2019-nsf-uppsala/
LOCATION:Biotopia – Biologiska museet\, Vasagatan 4\, Uppsala\, 753 13\, Sverige
CATEGORIES:Kunskap och Lärande,Museum,Prova på,Samhälle
ATTACH;FMTTYPE=image/png:https://arkiv.barniuppsala.se/wp-content/uploads/2019/07/earth-158805_1280.png
ORGANIZER;CN="Uppsala%20Naturskyddsf%C3%B6rening":MAILTO:s.d.johansson@gmail.com
END:VEVENT
END:VCALENDAR