BEGIN:VCALENDAR
VERSION:2.0
PRODID:-//Arkiv för Barn i Uppsala - ECPv5.1.6//NONSGML v1.0//EN
CALSCALE:GREGORIAN
METHOD:PUBLISH
X-WR-CALNAME:Arkiv för Barn i Uppsala
X-ORIGINAL-URL:https://arkiv.barniuppsala.se
X-WR-CALDESC:Händelser för Arkiv för Barn i Uppsala
BEGIN:VTIMEZONE
TZID:Europe/Stockholm
BEGIN:DAYLIGHT
TZOFFSETFROM:+0100
TZOFFSETTO:+0200
TZNAME:CEST
DTSTART:20150329T010000
END:DAYLIGHT
BEGIN:STANDARD
TZOFFSETFROM:+0200
TZOFFSETTO:+0100
TZNAME:CET
DTSTART:20151025T010000
END:STANDARD
END:VTIMEZONE
BEGIN:VEVENT
DTSTART;TZID=Europe/Stockholm:20151002T150000
DTEND;TZID=Europe/Stockholm:20150924T153500
DTSTAMP:20260420T201319
CREATED:20150924T115045Z
LAST-MODIFIED:20150924T115045Z
UID:3828-1443798000-1443108900@arkiv.barniuppsala.se
SUMMARY:Minibioklubben
DESCRIPTION:Kom och se en kvalitetsfilm med ditt barn. Om filmen bygger på en bok\, låna boken före eller efter filmvisningen och prata om den. \nFör barn mellan 3-5 år. \nOBS! Filmerna visas endast för medlemmar i Minibioklubben. \nKom ihåg att hämta ett nytt medlemskort för 2015. \nVill du gå med i Minibioklubben?\nKontakta Stadsbibliotekets barn- och ungdomsavdelning:\nTelefon: 018-727 17 10\nE-post: stadsbibli.barn@uppsala.se \n0SHARESDela eventet
URL:https://arkiv.barniuppsala.se/event/minibioklubben-3/
LOCATION:Stadsbiblioteket\, Svartbäcksgatan 17\, Uppsala\, 753 75 \, Sverige
CATEGORIES:Bio
ORGANIZER;CN="Uppsala%20stadsbibliotek":MAILTO: stadsbibli.inf@uppsala.se
GEO:59.8606206;17.6353278
X-APPLE-STRUCTURED-LOCATION;VALUE=URI;X-ADDRESS=Stadsbiblioteket Svartbäcksgatan 17 Uppsala 753 75  Sverige;X-APPLE-RADIUS=500;X-TITLE=Svartbäcksgatan 17:geo:17.6353278,59.8606206
END:VEVENT
END:VCALENDAR