BEGIN:VCALENDAR
VERSION:2.0
PRODID:-//Arkiv för Barn i Uppsala - ECPv5.1.6//NONSGML v1.0//EN
CALSCALE:GREGORIAN
METHOD:PUBLISH
X-WR-CALNAME:Arkiv för Barn i Uppsala
X-ORIGINAL-URL:https://arkiv.barniuppsala.se
X-WR-CALDESC:Händelser för Arkiv för Barn i Uppsala
BEGIN:VTIMEZONE
TZID:Europe/Stockholm
BEGIN:DAYLIGHT
TZOFFSETFROM:+0100
TZOFFSETTO:+0200
TZNAME:CEST
DTSTART:20190331T010000
END:DAYLIGHT
BEGIN:STANDARD
TZOFFSETFROM:+0200
TZOFFSETTO:+0100
TZNAME:CET
DTSTART:20191027T010000
END:STANDARD
END:VTIMEZONE
BEGIN:VEVENT
DTSTART;TZID=Europe/Stockholm:20191221T150000
DTEND;TZID=Europe/Stockholm:20191221T153500
DTSTAMP:20260421T015951
CREATED:20191215T153349Z
LAST-MODIFIED:20191215T153349Z
UID:53999-1576940400-1576942500@arkiv.barniuppsala.se
SUMMARY:Molly och Julmonstret | Fyrisbiografen (3 år+)
DESCRIPTION:Molly och Julmonstret | Fyrisbiografen (3 år+)\nJulen närmar sig och alla monster i monsterland förbereder sig för den stora ljusfesten. En natt får Molly och Edison höra talas om det mystiska julmonstret. De beger sig ut på en äventyrlig resa att söka rätt på honom. Kommer de att lyckas? Hinner Molly och Edison hem i tid för den stora festen? \nDatum: \nLördagen den 21 december 2019\nSöndagen den 22 december 2019\nFredagen den 27 december 2019\nLördagen den 28 december 2019 \nTid: 15:00\nLängd: 35 minuter\nPlats: Fyrisbiografen\, salong 2\nÅlder: 3 år+\nSpråk: Svenska\nPris: 50 kr\nBiljett: Fyrisbiografen (extern länk öppnas i nytt fönster/flik) \n\nFilmen\nDetta är den andra filmen om Molly Monster och hennes bästa vän Edison som är en mekanisk leksak. Mollys uppförande är inte så monsterlikt som hennes föräldrar förväntat sig\, men det gör inte så mycket för de inser att hon kommer att växa upp ändå – eller kanske inte\, vilket de också tycker är helt okej.\nEn film av Michael Ekblad och Ted Sieger \n\nBarnens bio-kort\nPå Fyrisbiografen älskar man barnfilm\, precis som ni! Med det nya stämpelkortet bjuds de yngsta filmälskarna på deras sjätte biobesök. När kortet är fullt får kortägaren dessutom en liten överraskning!\nStämpla kortet i biljettkassan vid varje barnbiobesök. Kortet är giltigt i ett år från första stämpeln. \nKortet är personligt och gäller endast för barnets biobiljetter. \n\nBesök gärna följande länkar medan (exetern länk öppns i nytt fönster/flik)\nKommande filmer på bio | Fyrisbiografen | Kommande event på jullovet \nBild: Från arrangören \n0SHARESDela eventet
URL:https://arkiv.barniuppsala.se/event/molly-och-julmonstret-fyrisbiografen-3-ar/2019-12-21/
LOCATION:Fyrisbiografen\, S:t Olofsgatan 10\, Uppsala\, 75312\, Sverige
CATEGORIES:Ålderskategori,Anmälan / Kostnad,Barn,Barnbio,Bio,Familj,Förköp / Bokning,Främre Luthagen-Fjärdingen,Geografisk kategori,Högtid,Jul,Jullov,Skollov,Teater och Bio,? Uppsala
ATTACH;FMTTYPE=image/jpeg:https://arkiv.barniuppsala.se/wp-content/uploads/2019/12/01-3.jpg
GEO:59.8579889;17.6286964
X-APPLE-STRUCTURED-LOCATION;VALUE=URI;X-ADDRESS=Fyrisbiografen S:t Olofsgatan 10 Uppsala 75312 Sverige;X-APPLE-RADIUS=500;X-TITLE=S:t Olofsgatan 10:geo:17.6286964,59.8579889
END:VEVENT
END:VCALENDAR