BEGIN:VCALENDAR
VERSION:2.0
PRODID:-//Arkiv för Barn i Uppsala - ECPv5.1.6//NONSGML v1.0//EN
CALSCALE:GREGORIAN
METHOD:PUBLISH
X-WR-CALNAME:Arkiv för Barn i Uppsala
X-ORIGINAL-URL:https://arkiv.barniuppsala.se
X-WR-CALDESC:Händelser för Arkiv för Barn i Uppsala
BEGIN:VTIMEZONE
TZID:Europe/Stockholm
BEGIN:DAYLIGHT
TZOFFSETFROM:+0100
TZOFFSETTO:+0200
TZNAME:CEST
DTSTART:20190331T010000
END:DAYLIGHT
BEGIN:STANDARD
TZOFFSETFROM:+0200
TZOFFSETTO:+0100
TZNAME:CET
DTSTART:20191027T010000
END:STANDARD
END:VTIMEZONE
BEGIN:VEVENT
DTSTART;TZID=Europe/Stockholm:20190825T110000
DTEND;TZID=Europe/Stockholm:20190825T160000
DTSTAMP:20260419T182356
CREATED:20190726T081139Z
LAST-MODIFIED:20190726T081139Z
UID:41207-1566730800-1566748800@arkiv.barniuppsala.se
SUMMARY:Stadsskogens dag 2019 | Möt Biotopia
DESCRIPTION:Möt Biotopia på Stadsskogens dag 2019\nBesök Biotopias bord under Stadsskogens dag! Lär känna livet i skogen och gör egna vykort av skatter från skogen. Följ med på familjeguidning på temat frön kl 11 och kl 14. Ingen anmälan\, ingen åldersgräns men man ska orka gå en halvtimme i skogen. Välkomna! \nStadsskogens dag är en friluftsdag för alla åldrar där olika föreningar och organisationer presenterar sin verksamhet. Exempel på övrig aktiviteter är ponnyridning\, försäljning av kolbullar\, korv\, fika och trädgårdsväxter m.m. \nDatum: Söndag 25 augusti 2019\nTid: Kl. 10:00 – 15:00\nPlats: Stadsskogen ((orange markör på kartan)   (extern länk öppnas i ny flik/fönster)\nÅlder: Ingen åldersgräns men man ska orka gå en halvtimme i skogen.\nAnmälan: Nej\nArrangör: Biotopia.  Stadsskogens dag arrangeras av Uppsala kommun. \n\nStadsskogens naturreservat\n“P Naturreservat” står det på skylten vid vägen. Bostadshusen kantar den trafikerade Norbyvägen. Det verkar som om skylten hamnat fel! Men det har den inte. Stadsskogen i Uppsala är verkligen precis det som namnet anger\, en skog i en stad; dess närmaste grannar är bostadsområden och stadens ständiga brus. \nVälkommen in i pelarnas sal! Luta dig mot en trygg tallstam och byt ut trafikljud mot blåmesens kvittrande. Besök fågeldammarna och hälsa på de tama lokalinvånarna\, änderna. Vandra eller cykla längs skogens alla stigar och se\, plötsligt befinner du dig i Skåne(!)\, ja i alla fall känns det så under höstens guldgula blad i bokskogen. Sätt dig ner på en bänk vid Valltjärn och föreställ dig hur livet såg ut här förr när tjärnen var ett stenbrott där man bröt granit. Kliv mjukt över gamla Trollskogens gröna mossa och låt granens doft sprida begynnande julkänslor. \nStadsskogen har många olika besökare. Stigarna är lättgångna och många. Skyltar i området hjälper dig att hitta rätt. Här finns även motionsspår\, skidspår och ridled. Vid parkeringen Gläntan startar Linnéstigen Gottsundavandringen som går rakt igenom Stadsskogen och fortsätter ut mot Hågadalen och ner till Lurbo bro. \nTänk på att särskilda regler gäller i naturreservat. \nService: Parkeringsplatser\, informationsskyltar\, stigar\, elljusspår (2\,5 km)\, ridstig\, Linnéstig\, eldstäder\, rastplatser. \nFörvaltare: Uppsala kommun \n\nBesök gärna länkarna nedan (externa länkar öppnas i ett nytt fönster/flik). \nBiotopia | Kommande utomhusaktiviteter | Kommande event natur | Kommande event under sommarlovet 2019 \nBild: pixabay.com \n0SHARESDela eventet
URL:https://arkiv.barniuppsala.se/event/mot-biotopia-pa-stadsskogens-dag-2019/
LOCATION:Stadsskogen\, Uppsala\, Sverige
CATEGORIES:Natur,Utomhusaktivitet
ATTACH;FMTTYPE=image/jpeg:https://arkiv.barniuppsala.se/wp-content/uploads/2019/06/bark-207252_1280.jpg
ORGANIZER;CN="Biotopia":MAILTO:info@biotopia.nu
GEO:59.837483;17.623167
END:VEVENT
END:VCALENDAR